BEGIN:VCALENDAR
VERSION:2.0
PRODID:-//The Shellharbour Club - ECPv6.15.20//NONSGML v1.0//EN
CALSCALE:GREGORIAN
METHOD:PUBLISH
X-WR-CALNAME:The Shellharbour Club
X-ORIGINAL-URL:https://www.theshellharbourclub.com.au
X-WR-CALDESC:Events for The Shellharbour Club
REFRESH-INTERVAL;VALUE=DURATION:PT1H
X-Robots-Tag:noindex
X-PUBLISHED-TTL:PT1H
BEGIN:VTIMEZONE
TZID:Australia/Sydney
BEGIN:STANDARD
TZOFFSETFROM:+1100
TZOFFSETTO:+1000
TZNAME:AEST
DTSTART:20250405T160000
END:STANDARD
BEGIN:DAYLIGHT
TZOFFSETFROM:+1000
TZOFFSETTO:+1100
TZNAME:AEDT
DTSTART:20251004T160000
END:DAYLIGHT
BEGIN:STANDARD
TZOFFSETFROM:+1100
TZOFFSETTO:+1000
TZNAME:AEST
DTSTART:20260404T160000
END:STANDARD
BEGIN:DAYLIGHT
TZOFFSETFROM:+1000
TZOFFSETTO:+1100
TZNAME:AEDT
DTSTART:20261003T160000
END:DAYLIGHT
BEGIN:STANDARD
TZOFFSETFROM:+1100
TZOFFSETTO:+1000
TZNAME:AEST
DTSTART:20270403T160000
END:STANDARD
BEGIN:DAYLIGHT
TZOFFSETFROM:+1000
TZOFFSETTO:+1100
TZNAME:AEDT
DTSTART:20271002T160000
END:DAYLIGHT
END:VTIMEZONE
BEGIN:VEVENT
DTSTART;TZID=Australia/Sydney:20260510T080000
DTEND;TZID=Australia/Sydney:20260510T170000
DTSTAMP:20260420T195129
CREATED:20260416T013247Z
LAST-MODIFIED:20260417T052122Z
UID:14466-1778400000-1778432400@www.theshellharbourclub.com.au
SUMMARY:MOTHER'S DAY
DESCRIPTION:Start the celebration with a special buffet breakfast at Precinct. \nCelebrate Mum with a morning of indulgence and togetherness. \nOur Mother’s Day Buffet has been thoughtfully curated to delight — from beautifully prepared breakfast favourites to fresh seasonal offerings and a touch of something sweet. \nRelax\, unwind\, and make it a moment to remember with the ones who matter most \nWhere: Precinct\nWhat: Mother’s Day Buffet Breakfast\nTime: Two sittings – 8:00am & 9:30am\nPrice: $45M | $51V | $20 kids (5–12 years) | Under 5’s free \nBookings are essential. \nBOOK NOW\nDining – Lunch + Dinner:\nEnjoy relaxed dining across Fiftysix Dining\, Precinct\, and Society. \nTiramisu Bar & Milkshake Cart will also be available during lunch and dinner\, featuring Classic and Strawberry options ($10M | $13V). \nThere will be free entertainment throughout the day\, including a roaming balloon artist from 12:00pm to 2:00pm\, as well as live entertainment from 12:00pm onwards. \nBOOK YOUR TABLE NOW\n 
URL:https://www.theshellharbourclub.com.au/event/mothers-day-buffet-breakfast/
CATEGORIES:Special Events
ATTACH;FMTTYPE=image/png:https://www.theshellharbourclub.com.au/wp-content/uploads/2026/04/SHELLYS-MOTHERS-DAY-WHATS-ON-3.png
END:VEVENT
END:VCALENDAR