BEGIN:VCALENDAR
VERSION:2.0
PRODID:-//The Shellharbour Club - ECPv6.15.20//NONSGML v1.0//EN
CALSCALE:GREGORIAN
METHOD:PUBLISH
X-WR-CALNAME:The Shellharbour Club
X-ORIGINAL-URL:https://www.theshellharbourclub.com.au
X-WR-CALDESC:Events for The Shellharbour Club
REFRESH-INTERVAL;VALUE=DURATION:PT1H
X-Robots-Tag:noindex
X-PUBLISHED-TTL:PT1H
BEGIN:VTIMEZONE
TZID:Australia/Sydney
BEGIN:STANDARD
TZOFFSETFROM:+1100
TZOFFSETTO:+1000
TZNAME:AEST
DTSTART:20250405T160000
END:STANDARD
BEGIN:DAYLIGHT
TZOFFSETFROM:+1000
TZOFFSETTO:+1100
TZNAME:AEDT
DTSTART:20251004T160000
END:DAYLIGHT
BEGIN:STANDARD
TZOFFSETFROM:+1100
TZOFFSETTO:+1000
TZNAME:AEST
DTSTART:20260404T160000
END:STANDARD
BEGIN:DAYLIGHT
TZOFFSETFROM:+1000
TZOFFSETTO:+1100
TZNAME:AEDT
DTSTART:20261003T160000
END:DAYLIGHT
BEGIN:STANDARD
TZOFFSETFROM:+1100
TZOFFSETTO:+1000
TZNAME:AEST
DTSTART:20270403T160000
END:STANDARD
BEGIN:DAYLIGHT
TZOFFSETFROM:+1000
TZOFFSETTO:+1100
TZNAME:AEDT
DTSTART:20271002T160000
END:DAYLIGHT
END:VTIMEZONE
BEGIN:VEVENT
DTSTART;TZID=Australia/Sydney:20260425T170000
DTEND;TZID=Australia/Sydney:20260425T200000
DTSTAMP:20260421T234937
CREATED:20260114T040903Z
LAST-MODIFIED:20260114T214703Z
UID:10012536-1777136400-1777147200@www.theshellharbourclub.com.au
SUMMARY:STACKED SATURDAYS
DESCRIPTION:Stacked Saturdays! \nWe’ve got stacks of cash to give away with Stacked Saturdays every second Saturday evening! \nSwipe your membership card at the rewards kiosk between 5pm and 8.55pm for your chance to win a share of $1\,500 cash! \nTerms and conditions apply. Authorised under NSW Permit No TP/00454.
URL:https://www.theshellharbourclub.com.au/event/stacked-saturdays/2026-04-25/
CATEGORIES:Promotion
ATTACH;FMTTYPE=image/png:https://www.theshellharbourclub.com.au/wp-content/uploads/2026/01/DIG-SCREEN-LANDSCAPE.png
END:VEVENT
END:VCALENDAR