BEGIN:VCALENDAR
VERSION:2.0
PRODID:-//The Shellharbour Club - ECPv6.15.20//NONSGML v1.0//EN
CALSCALE:GREGORIAN
METHOD:PUBLISH
X-WR-CALNAME:The Shellharbour Club
X-ORIGINAL-URL:https://www.theshellharbourclub.com.au
X-WR-CALDESC:Events for The Shellharbour Club
REFRESH-INTERVAL;VALUE=DURATION:PT1H
X-Robots-Tag:noindex
X-PUBLISHED-TTL:PT1H
BEGIN:VTIMEZONE
TZID:Australia/Sydney
BEGIN:STANDARD
TZOFFSETFROM:+1100
TZOFFSETTO:+1000
TZNAME:AEST
DTSTART:20250405T160000
END:STANDARD
BEGIN:DAYLIGHT
TZOFFSETFROM:+1000
TZOFFSETTO:+1100
TZNAME:AEDT
DTSTART:20251004T160000
END:DAYLIGHT
BEGIN:STANDARD
TZOFFSETFROM:+1100
TZOFFSETTO:+1000
TZNAME:AEST
DTSTART:20260404T160000
END:STANDARD
BEGIN:DAYLIGHT
TZOFFSETFROM:+1000
TZOFFSETTO:+1100
TZNAME:AEDT
DTSTART:20261003T160000
END:DAYLIGHT
BEGIN:STANDARD
TZOFFSETFROM:+1100
TZOFFSETTO:+1000
TZNAME:AEST
DTSTART:20270403T160000
END:STANDARD
BEGIN:DAYLIGHT
TZOFFSETFROM:+1000
TZOFFSETTO:+1100
TZNAME:AEDT
DTSTART:20271002T160000
END:DAYLIGHT
END:VTIMEZONE
BEGIN:VEVENT
DTSTART;TZID=Australia/Sydney:20260423T104500
DTEND;TZID=Australia/Sydney:20260423T133000
DTSTAMP:20260421T235114
CREATED:20250428T070156Z
LAST-MODIFIED:20260227T004059Z
UID:10015157-1776941100-1776951000@www.theshellharbourclub.com.au
SUMMARY:CLUB BINGO
DESCRIPTION:Get those dabbers at the ready! \nTuesday Bingo:\nWhen: Every Tuesday\nBooks on sale from 10.15am | Session starts from 11.00am \nThursday Bingo:\nWhen: Every Thursday\nBooks on sale from 10.15am | Session starts from 11.00am \nCost to play: $5 \nT&Cs apply. Excluding Public Holidays. Exclusive to members. Club entry rules apply.
URL:https://www.theshellharbourclub.com.au/event/bingo/2026-04-23/
LOCATION:The Shellharbour Club\, Cnr Wattle & Shellharbour Rds\, Shellharbour\, NSW\, 2529
CATEGORIES:bingo
ATTACH;FMTTYPE=image/png:https://www.theshellharbourclub.com.au/wp-content/uploads/2025/04/CLUB-BINGO.png
END:VEVENT
BEGIN:VEVENT
DTSTART;TZID=Australia/Sydney:20260428T104500
DTEND;TZID=Australia/Sydney:20260428T133000
DTSTAMP:20260421T235114
CREATED:20250428T070156Z
LAST-MODIFIED:20260227T004059Z
UID:10015158-1777373100-1777383000@www.theshellharbourclub.com.au
SUMMARY:CLUB BINGO
DESCRIPTION:Get those dabbers at the ready! \nTuesday Bingo:\nWhen: Every Tuesday\nBooks on sale from 10.15am | Session starts from 11.00am \nThursday Bingo:\nWhen: Every Thursday\nBooks on sale from 10.15am | Session starts from 11.00am \nCost to play: $5 \nT&Cs apply. Excluding Public Holidays. Exclusive to members. Club entry rules apply.
URL:https://www.theshellharbourclub.com.au/event/bingo/2026-04-28/
LOCATION:The Shellharbour Club\, Cnr Wattle & Shellharbour Rds\, Shellharbour\, NSW\, 2529
CATEGORIES:bingo
ATTACH;FMTTYPE=image/png:https://www.theshellharbourclub.com.au/wp-content/uploads/2025/04/CLUB-BINGO.png
END:VEVENT
BEGIN:VEVENT
DTSTART;TZID=Australia/Sydney:20260430T104500
DTEND;TZID=Australia/Sydney:20260430T133000
DTSTAMP:20260421T235114
CREATED:20250428T070156Z
LAST-MODIFIED:20260227T004059Z
UID:10015159-1777545900-1777555800@www.theshellharbourclub.com.au
SUMMARY:CLUB BINGO
DESCRIPTION:Get those dabbers at the ready! \nTuesday Bingo:\nWhen: Every Tuesday\nBooks on sale from 10.15am | Session starts from 11.00am \nThursday Bingo:\nWhen: Every Thursday\nBooks on sale from 10.15am | Session starts from 11.00am \nCost to play: $5 \nT&Cs apply. Excluding Public Holidays. Exclusive to members. Club entry rules apply.
URL:https://www.theshellharbourclub.com.au/event/bingo/2026-04-30/
LOCATION:The Shellharbour Club\, Cnr Wattle & Shellharbour Rds\, Shellharbour\, NSW\, 2529
CATEGORIES:bingo
ATTACH;FMTTYPE=image/png:https://www.theshellharbourclub.com.au/wp-content/uploads/2025/04/CLUB-BINGO.png
END:VEVENT
BEGIN:VEVENT
DTSTART;TZID=Australia/Sydney:20260505T104500
DTEND;TZID=Australia/Sydney:20260505T133000
DTSTAMP:20260421T235114
CREATED:20250428T070156Z
LAST-MODIFIED:20260227T004059Z
UID:10015160-1777977900-1777987800@www.theshellharbourclub.com.au
SUMMARY:CLUB BINGO
DESCRIPTION:Get those dabbers at the ready! \nTuesday Bingo:\nWhen: Every Tuesday\nBooks on sale from 10.15am | Session starts from 11.00am \nThursday Bingo:\nWhen: Every Thursday\nBooks on sale from 10.15am | Session starts from 11.00am \nCost to play: $5 \nT&Cs apply. Excluding Public Holidays. Exclusive to members. Club entry rules apply.
URL:https://www.theshellharbourclub.com.au/event/bingo/2026-05-05/
LOCATION:The Shellharbour Club\, Cnr Wattle & Shellharbour Rds\, Shellharbour\, NSW\, 2529
CATEGORIES:bingo
ATTACH;FMTTYPE=image/png:https://www.theshellharbourclub.com.au/wp-content/uploads/2025/04/CLUB-BINGO.png
END:VEVENT
BEGIN:VEVENT
DTSTART;TZID=Australia/Sydney:20260507T104500
DTEND;TZID=Australia/Sydney:20260507T133000
DTSTAMP:20260421T235114
CREATED:20250428T070156Z
LAST-MODIFIED:20260227T004059Z
UID:10015161-1778150700-1778160600@www.theshellharbourclub.com.au
SUMMARY:CLUB BINGO
DESCRIPTION:Get those dabbers at the ready! \nTuesday Bingo:\nWhen: Every Tuesday\nBooks on sale from 10.15am | Session starts from 11.00am \nThursday Bingo:\nWhen: Every Thursday\nBooks on sale from 10.15am | Session starts from 11.00am \nCost to play: $5 \nT&Cs apply. Excluding Public Holidays. Exclusive to members. Club entry rules apply.
URL:https://www.theshellharbourclub.com.au/event/bingo/2026-05-07/
LOCATION:The Shellharbour Club\, Cnr Wattle & Shellharbour Rds\, Shellharbour\, NSW\, 2529
CATEGORIES:bingo
ATTACH;FMTTYPE=image/png:https://www.theshellharbourclub.com.au/wp-content/uploads/2025/04/CLUB-BINGO.png
END:VEVENT
BEGIN:VEVENT
DTSTART;TZID=Australia/Sydney:20260512T104500
DTEND;TZID=Australia/Sydney:20260512T133000
DTSTAMP:20260421T235114
CREATED:20250428T070156Z
LAST-MODIFIED:20260227T004059Z
UID:10015162-1778582700-1778592600@www.theshellharbourclub.com.au
SUMMARY:CLUB BINGO
DESCRIPTION:Get those dabbers at the ready! \nTuesday Bingo:\nWhen: Every Tuesday\nBooks on sale from 10.15am | Session starts from 11.00am \nThursday Bingo:\nWhen: Every Thursday\nBooks on sale from 10.15am | Session starts from 11.00am \nCost to play: $5 \nT&Cs apply. Excluding Public Holidays. Exclusive to members. Club entry rules apply.
URL:https://www.theshellharbourclub.com.au/event/bingo/2026-05-12/
LOCATION:The Shellharbour Club\, Cnr Wattle & Shellharbour Rds\, Shellharbour\, NSW\, 2529
CATEGORIES:bingo
ATTACH;FMTTYPE=image/png:https://www.theshellharbourclub.com.au/wp-content/uploads/2025/04/CLUB-BINGO.png
END:VEVENT
BEGIN:VEVENT
DTSTART;TZID=Australia/Sydney:20260514T104500
DTEND;TZID=Australia/Sydney:20260514T133000
DTSTAMP:20260421T235114
CREATED:20250428T070156Z
LAST-MODIFIED:20260227T004059Z
UID:10015163-1778755500-1778765400@www.theshellharbourclub.com.au
SUMMARY:CLUB BINGO
DESCRIPTION:Get those dabbers at the ready! \nTuesday Bingo:\nWhen: Every Tuesday\nBooks on sale from 10.15am | Session starts from 11.00am \nThursday Bingo:\nWhen: Every Thursday\nBooks on sale from 10.15am | Session starts from 11.00am \nCost to play: $5 \nT&Cs apply. Excluding Public Holidays. Exclusive to members. Club entry rules apply.
URL:https://www.theshellharbourclub.com.au/event/bingo/2026-05-14/
LOCATION:The Shellharbour Club\, Cnr Wattle & Shellharbour Rds\, Shellharbour\, NSW\, 2529
CATEGORIES:bingo
ATTACH;FMTTYPE=image/png:https://www.theshellharbourclub.com.au/wp-content/uploads/2025/04/CLUB-BINGO.png
END:VEVENT
BEGIN:VEVENT
DTSTART;TZID=Australia/Sydney:20260519T104500
DTEND;TZID=Australia/Sydney:20260519T133000
DTSTAMP:20260421T235114
CREATED:20250428T070156Z
LAST-MODIFIED:20260227T004059Z
UID:10015164-1779187500-1779197400@www.theshellharbourclub.com.au
SUMMARY:CLUB BINGO
DESCRIPTION:Get those dabbers at the ready! \nTuesday Bingo:\nWhen: Every Tuesday\nBooks on sale from 10.15am | Session starts from 11.00am \nThursday Bingo:\nWhen: Every Thursday\nBooks on sale from 10.15am | Session starts from 11.00am \nCost to play: $5 \nT&Cs apply. Excluding Public Holidays. Exclusive to members. Club entry rules apply.
URL:https://www.theshellharbourclub.com.au/event/bingo/2026-05-19/
LOCATION:The Shellharbour Club\, Cnr Wattle & Shellharbour Rds\, Shellharbour\, NSW\, 2529
CATEGORIES:bingo
ATTACH;FMTTYPE=image/png:https://www.theshellharbourclub.com.au/wp-content/uploads/2025/04/CLUB-BINGO.png
END:VEVENT
BEGIN:VEVENT
DTSTART;TZID=Australia/Sydney:20260521T104500
DTEND;TZID=Australia/Sydney:20260521T133000
DTSTAMP:20260421T235114
CREATED:20250428T070156Z
LAST-MODIFIED:20260227T004059Z
UID:10015165-1779360300-1779370200@www.theshellharbourclub.com.au
SUMMARY:CLUB BINGO
DESCRIPTION:Get those dabbers at the ready! \nTuesday Bingo:\nWhen: Every Tuesday\nBooks on sale from 10.15am | Session starts from 11.00am \nThursday Bingo:\nWhen: Every Thursday\nBooks on sale from 10.15am | Session starts from 11.00am \nCost to play: $5 \nT&Cs apply. Excluding Public Holidays. Exclusive to members. Club entry rules apply.
URL:https://www.theshellharbourclub.com.au/event/bingo/2026-05-21/
LOCATION:The Shellharbour Club\, Cnr Wattle & Shellharbour Rds\, Shellharbour\, NSW\, 2529
CATEGORIES:bingo
ATTACH;FMTTYPE=image/png:https://www.theshellharbourclub.com.au/wp-content/uploads/2025/04/CLUB-BINGO.png
END:VEVENT
BEGIN:VEVENT
DTSTART;TZID=Australia/Sydney:20260526T104500
DTEND;TZID=Australia/Sydney:20260526T133000
DTSTAMP:20260421T235114
CREATED:20250428T070156Z
LAST-MODIFIED:20260227T004059Z
UID:10015166-1779792300-1779802200@www.theshellharbourclub.com.au
SUMMARY:CLUB BINGO
DESCRIPTION:Get those dabbers at the ready! \nTuesday Bingo:\nWhen: Every Tuesday\nBooks on sale from 10.15am | Session starts from 11.00am \nThursday Bingo:\nWhen: Every Thursday\nBooks on sale from 10.15am | Session starts from 11.00am \nCost to play: $5 \nT&Cs apply. Excluding Public Holidays. Exclusive to members. Club entry rules apply.
URL:https://www.theshellharbourclub.com.au/event/bingo/2026-05-26/
LOCATION:The Shellharbour Club\, Cnr Wattle & Shellharbour Rds\, Shellharbour\, NSW\, 2529
CATEGORIES:bingo
ATTACH;FMTTYPE=image/png:https://www.theshellharbourclub.com.au/wp-content/uploads/2025/04/CLUB-BINGO.png
END:VEVENT
BEGIN:VEVENT
DTSTART;TZID=Australia/Sydney:20260528T104500
DTEND;TZID=Australia/Sydney:20260528T133000
DTSTAMP:20260421T235114
CREATED:20250428T070156Z
LAST-MODIFIED:20260227T004059Z
UID:10015167-1779965100-1779975000@www.theshellharbourclub.com.au
SUMMARY:CLUB BINGO
DESCRIPTION:Get those dabbers at the ready! \nTuesday Bingo:\nWhen: Every Tuesday\nBooks on sale from 10.15am | Session starts from 11.00am \nThursday Bingo:\nWhen: Every Thursday\nBooks on sale from 10.15am | Session starts from 11.00am \nCost to play: $5 \nT&Cs apply. Excluding Public Holidays. Exclusive to members. Club entry rules apply.
URL:https://www.theshellharbourclub.com.au/event/bingo/2026-05-28/
LOCATION:The Shellharbour Club\, Cnr Wattle & Shellharbour Rds\, Shellharbour\, NSW\, 2529
CATEGORIES:bingo
ATTACH;FMTTYPE=image/png:https://www.theshellharbourclub.com.au/wp-content/uploads/2025/04/CLUB-BINGO.png
END:VEVENT
BEGIN:VEVENT
DTSTART;TZID=Australia/Sydney:20260602T104500
DTEND;TZID=Australia/Sydney:20260602T133000
DTSTAMP:20260421T235114
CREATED:20250428T070156Z
LAST-MODIFIED:20260227T004059Z
UID:10015168-1780397100-1780407000@www.theshellharbourclub.com.au
SUMMARY:CLUB BINGO
DESCRIPTION:Get those dabbers at the ready! \nTuesday Bingo:\nWhen: Every Tuesday\nBooks on sale from 10.15am | Session starts from 11.00am \nThursday Bingo:\nWhen: Every Thursday\nBooks on sale from 10.15am | Session starts from 11.00am \nCost to play: $5 \nT&Cs apply. Excluding Public Holidays. Exclusive to members. Club entry rules apply.
URL:https://www.theshellharbourclub.com.au/event/bingo/2026-06-02/
LOCATION:The Shellharbour Club\, Cnr Wattle & Shellharbour Rds\, Shellharbour\, NSW\, 2529
CATEGORIES:bingo
ATTACH;FMTTYPE=image/png:https://www.theshellharbourclub.com.au/wp-content/uploads/2025/04/CLUB-BINGO.png
END:VEVENT
BEGIN:VEVENT
DTSTART;TZID=Australia/Sydney:20260604T104500
DTEND;TZID=Australia/Sydney:20260604T133000
DTSTAMP:20260421T235114
CREATED:20250428T070156Z
LAST-MODIFIED:20260227T004059Z
UID:10015169-1780569900-1780579800@www.theshellharbourclub.com.au
SUMMARY:CLUB BINGO
DESCRIPTION:Get those dabbers at the ready! \nTuesday Bingo:\nWhen: Every Tuesday\nBooks on sale from 10.15am | Session starts from 11.00am \nThursday Bingo:\nWhen: Every Thursday\nBooks on sale from 10.15am | Session starts from 11.00am \nCost to play: $5 \nT&Cs apply. Excluding Public Holidays. Exclusive to members. Club entry rules apply.
URL:https://www.theshellharbourclub.com.au/event/bingo/2026-06-04/
LOCATION:The Shellharbour Club\, Cnr Wattle & Shellharbour Rds\, Shellharbour\, NSW\, 2529
CATEGORIES:bingo
ATTACH;FMTTYPE=image/png:https://www.theshellharbourclub.com.au/wp-content/uploads/2025/04/CLUB-BINGO.png
END:VEVENT
BEGIN:VEVENT
DTSTART;TZID=Australia/Sydney:20260609T104500
DTEND;TZID=Australia/Sydney:20260609T133000
DTSTAMP:20260421T235114
CREATED:20250428T070156Z
LAST-MODIFIED:20260227T004059Z
UID:10015170-1781001900-1781011800@www.theshellharbourclub.com.au
SUMMARY:CLUB BINGO
DESCRIPTION:Get those dabbers at the ready! \nTuesday Bingo:\nWhen: Every Tuesday\nBooks on sale from 10.15am | Session starts from 11.00am \nThursday Bingo:\nWhen: Every Thursday\nBooks on sale from 10.15am | Session starts from 11.00am \nCost to play: $5 \nT&Cs apply. Excluding Public Holidays. Exclusive to members. Club entry rules apply.
URL:https://www.theshellharbourclub.com.au/event/bingo/2026-06-09/
LOCATION:The Shellharbour Club\, Cnr Wattle & Shellharbour Rds\, Shellharbour\, NSW\, 2529
CATEGORIES:bingo
ATTACH;FMTTYPE=image/png:https://www.theshellharbourclub.com.au/wp-content/uploads/2025/04/CLUB-BINGO.png
END:VEVENT
BEGIN:VEVENT
DTSTART;TZID=Australia/Sydney:20260611T104500
DTEND;TZID=Australia/Sydney:20260611T133000
DTSTAMP:20260421T235114
CREATED:20250428T070156Z
LAST-MODIFIED:20260227T004059Z
UID:10015171-1781174700-1781184600@www.theshellharbourclub.com.au
SUMMARY:CLUB BINGO
DESCRIPTION:Get those dabbers at the ready! \nTuesday Bingo:\nWhen: Every Tuesday\nBooks on sale from 10.15am | Session starts from 11.00am \nThursday Bingo:\nWhen: Every Thursday\nBooks on sale from 10.15am | Session starts from 11.00am \nCost to play: $5 \nT&Cs apply. Excluding Public Holidays. Exclusive to members. Club entry rules apply.
URL:https://www.theshellharbourclub.com.au/event/bingo/2026-06-11/
LOCATION:The Shellharbour Club\, Cnr Wattle & Shellharbour Rds\, Shellharbour\, NSW\, 2529
CATEGORIES:bingo
ATTACH;FMTTYPE=image/png:https://www.theshellharbourclub.com.au/wp-content/uploads/2025/04/CLUB-BINGO.png
END:VEVENT
BEGIN:VEVENT
DTSTART;TZID=Australia/Sydney:20260616T104500
DTEND;TZID=Australia/Sydney:20260616T133000
DTSTAMP:20260421T235114
CREATED:20250428T070156Z
LAST-MODIFIED:20260227T004059Z
UID:10015172-1781606700-1781616600@www.theshellharbourclub.com.au
SUMMARY:CLUB BINGO
DESCRIPTION:Get those dabbers at the ready! \nTuesday Bingo:\nWhen: Every Tuesday\nBooks on sale from 10.15am | Session starts from 11.00am \nThursday Bingo:\nWhen: Every Thursday\nBooks on sale from 10.15am | Session starts from 11.00am \nCost to play: $5 \nT&Cs apply. Excluding Public Holidays. Exclusive to members. Club entry rules apply.
URL:https://www.theshellharbourclub.com.au/event/bingo/2026-06-16/
LOCATION:The Shellharbour Club\, Cnr Wattle & Shellharbour Rds\, Shellharbour\, NSW\, 2529
CATEGORIES:bingo
ATTACH;FMTTYPE=image/png:https://www.theshellharbourclub.com.au/wp-content/uploads/2025/04/CLUB-BINGO.png
END:VEVENT
BEGIN:VEVENT
DTSTART;TZID=Australia/Sydney:20260618T104500
DTEND;TZID=Australia/Sydney:20260618T133000
DTSTAMP:20260421T235114
CREATED:20250428T070156Z
LAST-MODIFIED:20260227T004059Z
UID:10015173-1781779500-1781789400@www.theshellharbourclub.com.au
SUMMARY:CLUB BINGO
DESCRIPTION:Get those dabbers at the ready! \nTuesday Bingo:\nWhen: Every Tuesday\nBooks on sale from 10.15am | Session starts from 11.00am \nThursday Bingo:\nWhen: Every Thursday\nBooks on sale from 10.15am | Session starts from 11.00am \nCost to play: $5 \nT&Cs apply. Excluding Public Holidays. Exclusive to members. Club entry rules apply.
URL:https://www.theshellharbourclub.com.au/event/bingo/2026-06-18/
LOCATION:The Shellharbour Club\, Cnr Wattle & Shellharbour Rds\, Shellharbour\, NSW\, 2529
CATEGORIES:bingo
ATTACH;FMTTYPE=image/png:https://www.theshellharbourclub.com.au/wp-content/uploads/2025/04/CLUB-BINGO.png
END:VEVENT
BEGIN:VEVENT
DTSTART;TZID=Australia/Sydney:20260623T104500
DTEND;TZID=Australia/Sydney:20260623T133000
DTSTAMP:20260421T235114
CREATED:20250428T070156Z
LAST-MODIFIED:20260227T004059Z
UID:10015174-1782211500-1782221400@www.theshellharbourclub.com.au
SUMMARY:CLUB BINGO
DESCRIPTION:Get those dabbers at the ready! \nTuesday Bingo:\nWhen: Every Tuesday\nBooks on sale from 10.15am | Session starts from 11.00am \nThursday Bingo:\nWhen: Every Thursday\nBooks on sale from 10.15am | Session starts from 11.00am \nCost to play: $5 \nT&Cs apply. Excluding Public Holidays. Exclusive to members. Club entry rules apply.
URL:https://www.theshellharbourclub.com.au/event/bingo/2026-06-23/
LOCATION:The Shellharbour Club\, Cnr Wattle & Shellharbour Rds\, Shellharbour\, NSW\, 2529
CATEGORIES:bingo
ATTACH;FMTTYPE=image/png:https://www.theshellharbourclub.com.au/wp-content/uploads/2025/04/CLUB-BINGO.png
END:VEVENT
BEGIN:VEVENT
DTSTART;TZID=Australia/Sydney:20260625T104500
DTEND;TZID=Australia/Sydney:20260625T133000
DTSTAMP:20260421T235114
CREATED:20250428T070156Z
LAST-MODIFIED:20260227T004059Z
UID:10015175-1782384300-1782394200@www.theshellharbourclub.com.au
SUMMARY:CLUB BINGO
DESCRIPTION:Get those dabbers at the ready! \nTuesday Bingo:\nWhen: Every Tuesday\nBooks on sale from 10.15am | Session starts from 11.00am \nThursday Bingo:\nWhen: Every Thursday\nBooks on sale from 10.15am | Session starts from 11.00am \nCost to play: $5 \nT&Cs apply. Excluding Public Holidays. Exclusive to members. Club entry rules apply.
URL:https://www.theshellharbourclub.com.au/event/bingo/2026-06-25/
LOCATION:The Shellharbour Club\, Cnr Wattle & Shellharbour Rds\, Shellharbour\, NSW\, 2529
CATEGORIES:bingo
ATTACH;FMTTYPE=image/png:https://www.theshellharbourclub.com.au/wp-content/uploads/2025/04/CLUB-BINGO.png
END:VEVENT
BEGIN:VEVENT
DTSTART;TZID=Australia/Sydney:20260630T104500
DTEND;TZID=Australia/Sydney:20260630T133000
DTSTAMP:20260421T235114
CREATED:20250428T070156Z
LAST-MODIFIED:20260227T004059Z
UID:10015176-1782816300-1782826200@www.theshellharbourclub.com.au
SUMMARY:CLUB BINGO
DESCRIPTION:Get those dabbers at the ready! \nTuesday Bingo:\nWhen: Every Tuesday\nBooks on sale from 10.15am | Session starts from 11.00am \nThursday Bingo:\nWhen: Every Thursday\nBooks on sale from 10.15am | Session starts from 11.00am \nCost to play: $5 \nT&Cs apply. Excluding Public Holidays. Exclusive to members. Club entry rules apply.
URL:https://www.theshellharbourclub.com.au/event/bingo/2026-06-30/
LOCATION:The Shellharbour Club\, Cnr Wattle & Shellharbour Rds\, Shellharbour\, NSW\, 2529
CATEGORIES:bingo
ATTACH;FMTTYPE=image/png:https://www.theshellharbourclub.com.au/wp-content/uploads/2025/04/CLUB-BINGO.png
END:VEVENT
BEGIN:VEVENT
DTSTART;TZID=Australia/Sydney:20260702T104500
DTEND;TZID=Australia/Sydney:20260702T133000
DTSTAMP:20260421T235114
CREATED:20250428T070156Z
LAST-MODIFIED:20260227T004059Z
UID:10015177-1782989100-1782999000@www.theshellharbourclub.com.au
SUMMARY:CLUB BINGO
DESCRIPTION:Get those dabbers at the ready! \nTuesday Bingo:\nWhen: Every Tuesday\nBooks on sale from 10.15am | Session starts from 11.00am \nThursday Bingo:\nWhen: Every Thursday\nBooks on sale from 10.15am | Session starts from 11.00am \nCost to play: $5 \nT&Cs apply. Excluding Public Holidays. Exclusive to members. Club entry rules apply.
URL:https://www.theshellharbourclub.com.au/event/bingo/2026-07-02/
LOCATION:The Shellharbour Club\, Cnr Wattle & Shellharbour Rds\, Shellharbour\, NSW\, 2529
CATEGORIES:bingo
ATTACH;FMTTYPE=image/png:https://www.theshellharbourclub.com.au/wp-content/uploads/2025/04/CLUB-BINGO.png
END:VEVENT
BEGIN:VEVENT
DTSTART;TZID=Australia/Sydney:20260707T104500
DTEND;TZID=Australia/Sydney:20260707T133000
DTSTAMP:20260421T235114
CREATED:20250428T070156Z
LAST-MODIFIED:20260227T004059Z
UID:10015178-1783421100-1783431000@www.theshellharbourclub.com.au
SUMMARY:CLUB BINGO
DESCRIPTION:Get those dabbers at the ready! \nTuesday Bingo:\nWhen: Every Tuesday\nBooks on sale from 10.15am | Session starts from 11.00am \nThursday Bingo:\nWhen: Every Thursday\nBooks on sale from 10.15am | Session starts from 11.00am \nCost to play: $5 \nT&Cs apply. Excluding Public Holidays. Exclusive to members. Club entry rules apply.
URL:https://www.theshellharbourclub.com.au/event/bingo/2026-07-07/
LOCATION:The Shellharbour Club\, Cnr Wattle & Shellharbour Rds\, Shellharbour\, NSW\, 2529
CATEGORIES:bingo
ATTACH;FMTTYPE=image/png:https://www.theshellharbourclub.com.au/wp-content/uploads/2025/04/CLUB-BINGO.png
END:VEVENT
BEGIN:VEVENT
DTSTART;TZID=Australia/Sydney:20260709T104500
DTEND;TZID=Australia/Sydney:20260709T133000
DTSTAMP:20260421T235114
CREATED:20250428T070156Z
LAST-MODIFIED:20260227T004059Z
UID:10015179-1783593900-1783603800@www.theshellharbourclub.com.au
SUMMARY:CLUB BINGO
DESCRIPTION:Get those dabbers at the ready! \nTuesday Bingo:\nWhen: Every Tuesday\nBooks on sale from 10.15am | Session starts from 11.00am \nThursday Bingo:\nWhen: Every Thursday\nBooks on sale from 10.15am | Session starts from 11.00am \nCost to play: $5 \nT&Cs apply. Excluding Public Holidays. Exclusive to members. Club entry rules apply.
URL:https://www.theshellharbourclub.com.au/event/bingo/2026-07-09/
LOCATION:The Shellharbour Club\, Cnr Wattle & Shellharbour Rds\, Shellharbour\, NSW\, 2529
CATEGORIES:bingo
ATTACH;FMTTYPE=image/png:https://www.theshellharbourclub.com.au/wp-content/uploads/2025/04/CLUB-BINGO.png
END:VEVENT
BEGIN:VEVENT
DTSTART;TZID=Australia/Sydney:20260714T104500
DTEND;TZID=Australia/Sydney:20260714T133000
DTSTAMP:20260421T235114
CREATED:20250428T070156Z
LAST-MODIFIED:20260227T004059Z
UID:10015180-1784025900-1784035800@www.theshellharbourclub.com.au
SUMMARY:CLUB BINGO
DESCRIPTION:Get those dabbers at the ready! \nTuesday Bingo:\nWhen: Every Tuesday\nBooks on sale from 10.15am | Session starts from 11.00am \nThursday Bingo:\nWhen: Every Thursday\nBooks on sale from 10.15am | Session starts from 11.00am \nCost to play: $5 \nT&Cs apply. Excluding Public Holidays. Exclusive to members. Club entry rules apply.
URL:https://www.theshellharbourclub.com.au/event/bingo/2026-07-14/
LOCATION:The Shellharbour Club\, Cnr Wattle & Shellharbour Rds\, Shellharbour\, NSW\, 2529
CATEGORIES:bingo
ATTACH;FMTTYPE=image/png:https://www.theshellharbourclub.com.au/wp-content/uploads/2025/04/CLUB-BINGO.png
END:VEVENT
BEGIN:VEVENT
DTSTART;TZID=Australia/Sydney:20260716T104500
DTEND;TZID=Australia/Sydney:20260716T133000
DTSTAMP:20260421T235114
CREATED:20250428T070156Z
LAST-MODIFIED:20260227T004059Z
UID:10015181-1784198700-1784208600@www.theshellharbourclub.com.au
SUMMARY:CLUB BINGO
DESCRIPTION:Get those dabbers at the ready! \nTuesday Bingo:\nWhen: Every Tuesday\nBooks on sale from 10.15am | Session starts from 11.00am \nThursday Bingo:\nWhen: Every Thursday\nBooks on sale from 10.15am | Session starts from 11.00am \nCost to play: $5 \nT&Cs apply. Excluding Public Holidays. Exclusive to members. Club entry rules apply.
URL:https://www.theshellharbourclub.com.au/event/bingo/2026-07-16/
LOCATION:The Shellharbour Club\, Cnr Wattle & Shellharbour Rds\, Shellharbour\, NSW\, 2529
CATEGORIES:bingo
ATTACH;FMTTYPE=image/png:https://www.theshellharbourclub.com.au/wp-content/uploads/2025/04/CLUB-BINGO.png
END:VEVENT
BEGIN:VEVENT
DTSTART;TZID=Australia/Sydney:20260721T104500
DTEND;TZID=Australia/Sydney:20260721T133000
DTSTAMP:20260421T235114
CREATED:20250428T070156Z
LAST-MODIFIED:20260227T004059Z
UID:10015182-1784630700-1784640600@www.theshellharbourclub.com.au
SUMMARY:CLUB BINGO
DESCRIPTION:Get those dabbers at the ready! \nTuesday Bingo:\nWhen: Every Tuesday\nBooks on sale from 10.15am | Session starts from 11.00am \nThursday Bingo:\nWhen: Every Thursday\nBooks on sale from 10.15am | Session starts from 11.00am \nCost to play: $5 \nT&Cs apply. Excluding Public Holidays. Exclusive to members. Club entry rules apply.
URL:https://www.theshellharbourclub.com.au/event/bingo/2026-07-21/
LOCATION:The Shellharbour Club\, Cnr Wattle & Shellharbour Rds\, Shellharbour\, NSW\, 2529
CATEGORIES:bingo
ATTACH;FMTTYPE=image/png:https://www.theshellharbourclub.com.au/wp-content/uploads/2025/04/CLUB-BINGO.png
END:VEVENT
BEGIN:VEVENT
DTSTART;TZID=Australia/Sydney:20260723T104500
DTEND;TZID=Australia/Sydney:20260723T133000
DTSTAMP:20260421T235114
CREATED:20250428T070156Z
LAST-MODIFIED:20260227T004059Z
UID:10015183-1784803500-1784813400@www.theshellharbourclub.com.au
SUMMARY:CLUB BINGO
DESCRIPTION:Get those dabbers at the ready! \nTuesday Bingo:\nWhen: Every Tuesday\nBooks on sale from 10.15am | Session starts from 11.00am \nThursday Bingo:\nWhen: Every Thursday\nBooks on sale from 10.15am | Session starts from 11.00am \nCost to play: $5 \nT&Cs apply. Excluding Public Holidays. Exclusive to members. Club entry rules apply.
URL:https://www.theshellharbourclub.com.au/event/bingo/2026-07-23/
LOCATION:The Shellharbour Club\, Cnr Wattle & Shellharbour Rds\, Shellharbour\, NSW\, 2529
CATEGORIES:bingo
ATTACH;FMTTYPE=image/png:https://www.theshellharbourclub.com.au/wp-content/uploads/2025/04/CLUB-BINGO.png
END:VEVENT
BEGIN:VEVENT
DTSTART;TZID=Australia/Sydney:20260728T104500
DTEND;TZID=Australia/Sydney:20260728T133000
DTSTAMP:20260421T235114
CREATED:20250428T070156Z
LAST-MODIFIED:20260227T004059Z
UID:10015184-1785235500-1785245400@www.theshellharbourclub.com.au
SUMMARY:CLUB BINGO
DESCRIPTION:Get those dabbers at the ready! \nTuesday Bingo:\nWhen: Every Tuesday\nBooks on sale from 10.15am | Session starts from 11.00am \nThursday Bingo:\nWhen: Every Thursday\nBooks on sale from 10.15am | Session starts from 11.00am \nCost to play: $5 \nT&Cs apply. Excluding Public Holidays. Exclusive to members. Club entry rules apply.
URL:https://www.theshellharbourclub.com.au/event/bingo/2026-07-28/
LOCATION:The Shellharbour Club\, Cnr Wattle & Shellharbour Rds\, Shellharbour\, NSW\, 2529
CATEGORIES:bingo
ATTACH;FMTTYPE=image/png:https://www.theshellharbourclub.com.au/wp-content/uploads/2025/04/CLUB-BINGO.png
END:VEVENT
BEGIN:VEVENT
DTSTART;TZID=Australia/Sydney:20260730T104500
DTEND;TZID=Australia/Sydney:20260730T133000
DTSTAMP:20260421T235114
CREATED:20250428T070156Z
LAST-MODIFIED:20260227T004059Z
UID:10015185-1785408300-1785418200@www.theshellharbourclub.com.au
SUMMARY:CLUB BINGO
DESCRIPTION:Get those dabbers at the ready! \nTuesday Bingo:\nWhen: Every Tuesday\nBooks on sale from 10.15am | Session starts from 11.00am \nThursday Bingo:\nWhen: Every Thursday\nBooks on sale from 10.15am | Session starts from 11.00am \nCost to play: $5 \nT&Cs apply. Excluding Public Holidays. Exclusive to members. Club entry rules apply.
URL:https://www.theshellharbourclub.com.au/event/bingo/2026-07-30/
LOCATION:The Shellharbour Club\, Cnr Wattle & Shellharbour Rds\, Shellharbour\, NSW\, 2529
CATEGORIES:bingo
ATTACH;FMTTYPE=image/png:https://www.theshellharbourclub.com.au/wp-content/uploads/2025/04/CLUB-BINGO.png
END:VEVENT
BEGIN:VEVENT
DTSTART;TZID=Australia/Sydney:20260804T104500
DTEND;TZID=Australia/Sydney:20260804T133000
DTSTAMP:20260421T235114
CREATED:20250428T070156Z
LAST-MODIFIED:20260227T004059Z
UID:10015186-1785840300-1785850200@www.theshellharbourclub.com.au
SUMMARY:CLUB BINGO
DESCRIPTION:Get those dabbers at the ready! \nTuesday Bingo:\nWhen: Every Tuesday\nBooks on sale from 10.15am | Session starts from 11.00am \nThursday Bingo:\nWhen: Every Thursday\nBooks on sale from 10.15am | Session starts from 11.00am \nCost to play: $5 \nT&Cs apply. Excluding Public Holidays. Exclusive to members. Club entry rules apply.
URL:https://www.theshellharbourclub.com.au/event/bingo/2026-08-04/
LOCATION:The Shellharbour Club\, Cnr Wattle & Shellharbour Rds\, Shellharbour\, NSW\, 2529
CATEGORIES:bingo
ATTACH;FMTTYPE=image/png:https://www.theshellharbourclub.com.au/wp-content/uploads/2025/04/CLUB-BINGO.png
END:VEVENT
END:VCALENDAR