BEGIN:VCALENDAR
VERSION:2.0
PRODID:-//The Shellharbour Club - ECPv6.15.20//NONSGML v1.0//EN
CALSCALE:GREGORIAN
METHOD:PUBLISH
X-WR-CALNAME:The Shellharbour Club
X-ORIGINAL-URL:https://www.theshellharbourclub.com.au
X-WR-CALDESC:Events for The Shellharbour Club
REFRESH-INTERVAL;VALUE=DURATION:PT1H
X-Robots-Tag:noindex
X-PUBLISHED-TTL:PT1H
BEGIN:VTIMEZONE
TZID:Australia/Sydney
BEGIN:STANDARD
TZOFFSETFROM:+1100
TZOFFSETTO:+1000
TZNAME:AEST
DTSTART:20250405T160000
END:STANDARD
BEGIN:DAYLIGHT
TZOFFSETFROM:+1000
TZOFFSETTO:+1100
TZNAME:AEDT
DTSTART:20251004T160000
END:DAYLIGHT
BEGIN:STANDARD
TZOFFSETFROM:+1100
TZOFFSETTO:+1000
TZNAME:AEST
DTSTART:20260404T160000
END:STANDARD
BEGIN:DAYLIGHT
TZOFFSETFROM:+1000
TZOFFSETTO:+1100
TZNAME:AEDT
DTSTART:20261003T160000
END:DAYLIGHT
BEGIN:STANDARD
TZOFFSETFROM:+1100
TZOFFSETTO:+1000
TZNAME:AEST
DTSTART:20270403T160000
END:STANDARD
BEGIN:DAYLIGHT
TZOFFSETFROM:+1000
TZOFFSETTO:+1100
TZNAME:AEDT
DTSTART:20271002T160000
END:DAYLIGHT
END:VTIMEZONE
BEGIN:VEVENT
DTSTART;TZID=Australia/Sydney:20260502T120000
DTEND;TZID=Australia/Sydney:20260502T170000
DTSTAMP:20260423T225040
CREATED:20250919T052150Z
LAST-MODIFIED:20260330T060234Z
UID:10004192-1777723200-1777741200@www.theshellharbourclub.com.au
SUMMARY:$5 BEERS EVERY SATURDAY
DESCRIPTION:Enjoy a $5 schooner this Saturday! \nWhen: Every Saturday\, 12pm – 5pm \nWhere: Main Bar and Sports Bar \nT&C’s Apply. Limited Time Only. Members only. Please drink responsibly. \nIncludes standard draught beer only: Tooheys NEW\, Tooheys OLD\, Tooheys Ultra\, XXXX Gold\, Hahn Super Dry\, Hahn 3.5\, Hahn Lite\, VB\, Carlton Draught
URL:https://www.theshellharbourclub.com.au/event/beers-every-saturday/2026-05-02/
LOCATION:The Shellharbour Club\, Cnr Wattle & Shellharbour Rds\, Shellharbour\, NSW\, 2529
CATEGORIES:Promotion
ATTACH;FMTTYPE=image/png:https://www.theshellharbourclub.com.au/wp-content/uploads/2025/09/5-beers.png
END:VEVENT
BEGIN:VEVENT
DTSTART;TZID=Australia/Sydney:20260509T120000
DTEND;TZID=Australia/Sydney:20260509T170000
DTSTAMP:20260423T225040
CREATED:20250919T052150Z
LAST-MODIFIED:20260330T060234Z
UID:10004193-1778328000-1778346000@www.theshellharbourclub.com.au
SUMMARY:$5 BEERS EVERY SATURDAY
DESCRIPTION:Enjoy a $5 schooner this Saturday! \nWhen: Every Saturday\, 12pm – 5pm \nWhere: Main Bar and Sports Bar \nT&C’s Apply. Limited Time Only. Members only. Please drink responsibly. \nIncludes standard draught beer only: Tooheys NEW\, Tooheys OLD\, Tooheys Ultra\, XXXX Gold\, Hahn Super Dry\, Hahn 3.5\, Hahn Lite\, VB\, Carlton Draught
URL:https://www.theshellharbourclub.com.au/event/beers-every-saturday/2026-05-09/
LOCATION:The Shellharbour Club\, Cnr Wattle & Shellharbour Rds\, Shellharbour\, NSW\, 2529
CATEGORIES:Promotion
ATTACH;FMTTYPE=image/png:https://www.theshellharbourclub.com.au/wp-content/uploads/2025/09/5-beers.png
END:VEVENT
BEGIN:VEVENT
DTSTART;TZID=Australia/Sydney:20260516T120000
DTEND;TZID=Australia/Sydney:20260516T170000
DTSTAMP:20260423T225040
CREATED:20250919T052150Z
LAST-MODIFIED:20260330T060234Z
UID:10004194-1778932800-1778950800@www.theshellharbourclub.com.au
SUMMARY:$5 BEERS EVERY SATURDAY
DESCRIPTION:Enjoy a $5 schooner this Saturday! \nWhen: Every Saturday\, 12pm – 5pm \nWhere: Main Bar and Sports Bar \nT&C’s Apply. Limited Time Only. Members only. Please drink responsibly. \nIncludes standard draught beer only: Tooheys NEW\, Tooheys OLD\, Tooheys Ultra\, XXXX Gold\, Hahn Super Dry\, Hahn 3.5\, Hahn Lite\, VB\, Carlton Draught
URL:https://www.theshellharbourclub.com.au/event/beers-every-saturday/2026-05-16/
LOCATION:The Shellharbour Club\, Cnr Wattle & Shellharbour Rds\, Shellharbour\, NSW\, 2529
CATEGORIES:Promotion
ATTACH;FMTTYPE=image/png:https://www.theshellharbourclub.com.au/wp-content/uploads/2025/09/5-beers.png
END:VEVENT
BEGIN:VEVENT
DTSTART;TZID=Australia/Sydney:20260523T120000
DTEND;TZID=Australia/Sydney:20260523T170000
DTSTAMP:20260423T225040
CREATED:20250919T052150Z
LAST-MODIFIED:20260330T060234Z
UID:10004195-1779537600-1779555600@www.theshellharbourclub.com.au
SUMMARY:$5 BEERS EVERY SATURDAY
DESCRIPTION:Enjoy a $5 schooner this Saturday! \nWhen: Every Saturday\, 12pm – 5pm \nWhere: Main Bar and Sports Bar \nT&C’s Apply. Limited Time Only. Members only. Please drink responsibly. \nIncludes standard draught beer only: Tooheys NEW\, Tooheys OLD\, Tooheys Ultra\, XXXX Gold\, Hahn Super Dry\, Hahn 3.5\, Hahn Lite\, VB\, Carlton Draught
URL:https://www.theshellharbourclub.com.au/event/beers-every-saturday/2026-05-23/
LOCATION:The Shellharbour Club\, Cnr Wattle & Shellharbour Rds\, Shellharbour\, NSW\, 2529
CATEGORIES:Promotion
ATTACH;FMTTYPE=image/png:https://www.theshellharbourclub.com.au/wp-content/uploads/2025/09/5-beers.png
END:VEVENT
BEGIN:VEVENT
DTSTART;TZID=Australia/Sydney:20260530T120000
DTEND;TZID=Australia/Sydney:20260530T170000
DTSTAMP:20260423T225040
CREATED:20250919T052150Z
LAST-MODIFIED:20260330T060234Z
UID:10004196-1780142400-1780160400@www.theshellharbourclub.com.au
SUMMARY:$5 BEERS EVERY SATURDAY
DESCRIPTION:Enjoy a $5 schooner this Saturday! \nWhen: Every Saturday\, 12pm – 5pm \nWhere: Main Bar and Sports Bar \nT&C’s Apply. Limited Time Only. Members only. Please drink responsibly. \nIncludes standard draught beer only: Tooheys NEW\, Tooheys OLD\, Tooheys Ultra\, XXXX Gold\, Hahn Super Dry\, Hahn 3.5\, Hahn Lite\, VB\, Carlton Draught
URL:https://www.theshellharbourclub.com.au/event/beers-every-saturday/2026-05-30/
LOCATION:The Shellharbour Club\, Cnr Wattle & Shellharbour Rds\, Shellharbour\, NSW\, 2529
CATEGORIES:Promotion
ATTACH;FMTTYPE=image/png:https://www.theshellharbourclub.com.au/wp-content/uploads/2025/09/5-beers.png
END:VEVENT
BEGIN:VEVENT
DTSTART;TZID=Australia/Sydney:20260606T120000
DTEND;TZID=Australia/Sydney:20260606T170000
DTSTAMP:20260423T225040
CREATED:20250919T052150Z
LAST-MODIFIED:20260330T060234Z
UID:10004197-1780747200-1780765200@www.theshellharbourclub.com.au
SUMMARY:$5 BEERS EVERY SATURDAY
DESCRIPTION:Enjoy a $5 schooner this Saturday! \nWhen: Every Saturday\, 12pm – 5pm \nWhere: Main Bar and Sports Bar \nT&C’s Apply. Limited Time Only. Members only. Please drink responsibly. \nIncludes standard draught beer only: Tooheys NEW\, Tooheys OLD\, Tooheys Ultra\, XXXX Gold\, Hahn Super Dry\, Hahn 3.5\, Hahn Lite\, VB\, Carlton Draught
URL:https://www.theshellharbourclub.com.au/event/beers-every-saturday/2026-06-06/
LOCATION:The Shellharbour Club\, Cnr Wattle & Shellharbour Rds\, Shellharbour\, NSW\, 2529
CATEGORIES:Promotion
ATTACH;FMTTYPE=image/png:https://www.theshellharbourclub.com.au/wp-content/uploads/2025/09/5-beers.png
END:VEVENT
BEGIN:VEVENT
DTSTART;TZID=Australia/Sydney:20260613T120000
DTEND;TZID=Australia/Sydney:20260613T170000
DTSTAMP:20260423T225040
CREATED:20250919T052150Z
LAST-MODIFIED:20260330T060234Z
UID:10004198-1781352000-1781370000@www.theshellharbourclub.com.au
SUMMARY:$5 BEERS EVERY SATURDAY
DESCRIPTION:Enjoy a $5 schooner this Saturday! \nWhen: Every Saturday\, 12pm – 5pm \nWhere: Main Bar and Sports Bar \nT&C’s Apply. Limited Time Only. Members only. Please drink responsibly. \nIncludes standard draught beer only: Tooheys NEW\, Tooheys OLD\, Tooheys Ultra\, XXXX Gold\, Hahn Super Dry\, Hahn 3.5\, Hahn Lite\, VB\, Carlton Draught
URL:https://www.theshellharbourclub.com.au/event/beers-every-saturday/2026-06-13/
LOCATION:The Shellharbour Club\, Cnr Wattle & Shellharbour Rds\, Shellharbour\, NSW\, 2529
CATEGORIES:Promotion
ATTACH;FMTTYPE=image/png:https://www.theshellharbourclub.com.au/wp-content/uploads/2025/09/5-beers.png
END:VEVENT
BEGIN:VEVENT
DTSTART;TZID=Australia/Sydney:20260620T120000
DTEND;TZID=Australia/Sydney:20260620T170000
DTSTAMP:20260423T225040
CREATED:20250919T052150Z
LAST-MODIFIED:20260330T060234Z
UID:10004199-1781956800-1781974800@www.theshellharbourclub.com.au
SUMMARY:$5 BEERS EVERY SATURDAY
DESCRIPTION:Enjoy a $5 schooner this Saturday! \nWhen: Every Saturday\, 12pm – 5pm \nWhere: Main Bar and Sports Bar \nT&C’s Apply. Limited Time Only. Members only. Please drink responsibly. \nIncludes standard draught beer only: Tooheys NEW\, Tooheys OLD\, Tooheys Ultra\, XXXX Gold\, Hahn Super Dry\, Hahn 3.5\, Hahn Lite\, VB\, Carlton Draught
URL:https://www.theshellharbourclub.com.au/event/beers-every-saturday/2026-06-20/
LOCATION:The Shellharbour Club\, Cnr Wattle & Shellharbour Rds\, Shellharbour\, NSW\, 2529
CATEGORIES:Promotion
ATTACH;FMTTYPE=image/png:https://www.theshellharbourclub.com.au/wp-content/uploads/2025/09/5-beers.png
END:VEVENT
BEGIN:VEVENT
DTSTART;TZID=Australia/Sydney:20260627T120000
DTEND;TZID=Australia/Sydney:20260627T170000
DTSTAMP:20260423T225040
CREATED:20250919T052150Z
LAST-MODIFIED:20260330T060234Z
UID:10004200-1782561600-1782579600@www.theshellharbourclub.com.au
SUMMARY:$5 BEERS EVERY SATURDAY
DESCRIPTION:Enjoy a $5 schooner this Saturday! \nWhen: Every Saturday\, 12pm – 5pm \nWhere: Main Bar and Sports Bar \nT&C’s Apply. Limited Time Only. Members only. Please drink responsibly. \nIncludes standard draught beer only: Tooheys NEW\, Tooheys OLD\, Tooheys Ultra\, XXXX Gold\, Hahn Super Dry\, Hahn 3.5\, Hahn Lite\, VB\, Carlton Draught
URL:https://www.theshellharbourclub.com.au/event/beers-every-saturday/2026-06-27/
LOCATION:The Shellharbour Club\, Cnr Wattle & Shellharbour Rds\, Shellharbour\, NSW\, 2529
CATEGORIES:Promotion
ATTACH;FMTTYPE=image/png:https://www.theshellharbourclub.com.au/wp-content/uploads/2025/09/5-beers.png
END:VEVENT
BEGIN:VEVENT
DTSTART;TZID=Australia/Sydney:20260704T120000
DTEND;TZID=Australia/Sydney:20260704T170000
DTSTAMP:20260423T225040
CREATED:20250919T052150Z
LAST-MODIFIED:20260330T060234Z
UID:10004201-1783166400-1783184400@www.theshellharbourclub.com.au
SUMMARY:$5 BEERS EVERY SATURDAY
DESCRIPTION:Enjoy a $5 schooner this Saturday! \nWhen: Every Saturday\, 12pm – 5pm \nWhere: Main Bar and Sports Bar \nT&C’s Apply. Limited Time Only. Members only. Please drink responsibly. \nIncludes standard draught beer only: Tooheys NEW\, Tooheys OLD\, Tooheys Ultra\, XXXX Gold\, Hahn Super Dry\, Hahn 3.5\, Hahn Lite\, VB\, Carlton Draught
URL:https://www.theshellharbourclub.com.au/event/beers-every-saturday/2026-07-04/
LOCATION:The Shellharbour Club\, Cnr Wattle & Shellharbour Rds\, Shellharbour\, NSW\, 2529
CATEGORIES:Promotion
ATTACH;FMTTYPE=image/png:https://www.theshellharbourclub.com.au/wp-content/uploads/2025/09/5-beers.png
END:VEVENT
BEGIN:VEVENT
DTSTART;TZID=Australia/Sydney:20260711T120000
DTEND;TZID=Australia/Sydney:20260711T170000
DTSTAMP:20260423T225040
CREATED:20250919T052150Z
LAST-MODIFIED:20260330T060234Z
UID:10004202-1783771200-1783789200@www.theshellharbourclub.com.au
SUMMARY:$5 BEERS EVERY SATURDAY
DESCRIPTION:Enjoy a $5 schooner this Saturday! \nWhen: Every Saturday\, 12pm – 5pm \nWhere: Main Bar and Sports Bar \nT&C’s Apply. Limited Time Only. Members only. Please drink responsibly. \nIncludes standard draught beer only: Tooheys NEW\, Tooheys OLD\, Tooheys Ultra\, XXXX Gold\, Hahn Super Dry\, Hahn 3.5\, Hahn Lite\, VB\, Carlton Draught
URL:https://www.theshellharbourclub.com.au/event/beers-every-saturday/2026-07-11/
LOCATION:The Shellharbour Club\, Cnr Wattle & Shellharbour Rds\, Shellharbour\, NSW\, 2529
CATEGORIES:Promotion
ATTACH;FMTTYPE=image/png:https://www.theshellharbourclub.com.au/wp-content/uploads/2025/09/5-beers.png
END:VEVENT
BEGIN:VEVENT
DTSTART;TZID=Australia/Sydney:20260718T120000
DTEND;TZID=Australia/Sydney:20260718T170000
DTSTAMP:20260423T225040
CREATED:20250919T052150Z
LAST-MODIFIED:20260330T060234Z
UID:10004203-1784376000-1784394000@www.theshellharbourclub.com.au
SUMMARY:$5 BEERS EVERY SATURDAY
DESCRIPTION:Enjoy a $5 schooner this Saturday! \nWhen: Every Saturday\, 12pm – 5pm \nWhere: Main Bar and Sports Bar \nT&C’s Apply. Limited Time Only. Members only. Please drink responsibly. \nIncludes standard draught beer only: Tooheys NEW\, Tooheys OLD\, Tooheys Ultra\, XXXX Gold\, Hahn Super Dry\, Hahn 3.5\, Hahn Lite\, VB\, Carlton Draught
URL:https://www.theshellharbourclub.com.au/event/beers-every-saturday/2026-07-18/
LOCATION:The Shellharbour Club\, Cnr Wattle & Shellharbour Rds\, Shellharbour\, NSW\, 2529
CATEGORIES:Promotion
ATTACH;FMTTYPE=image/png:https://www.theshellharbourclub.com.au/wp-content/uploads/2025/09/5-beers.png
END:VEVENT
BEGIN:VEVENT
DTSTART;TZID=Australia/Sydney:20260725T120000
DTEND;TZID=Australia/Sydney:20260725T170000
DTSTAMP:20260423T225040
CREATED:20250919T052150Z
LAST-MODIFIED:20260330T060234Z
UID:10004204-1784980800-1784998800@www.theshellharbourclub.com.au
SUMMARY:$5 BEERS EVERY SATURDAY
DESCRIPTION:Enjoy a $5 schooner this Saturday! \nWhen: Every Saturday\, 12pm – 5pm \nWhere: Main Bar and Sports Bar \nT&C’s Apply. Limited Time Only. Members only. Please drink responsibly. \nIncludes standard draught beer only: Tooheys NEW\, Tooheys OLD\, Tooheys Ultra\, XXXX Gold\, Hahn Super Dry\, Hahn 3.5\, Hahn Lite\, VB\, Carlton Draught
URL:https://www.theshellharbourclub.com.au/event/beers-every-saturday/2026-07-25/
LOCATION:The Shellharbour Club\, Cnr Wattle & Shellharbour Rds\, Shellharbour\, NSW\, 2529
CATEGORIES:Promotion
ATTACH;FMTTYPE=image/png:https://www.theshellharbourclub.com.au/wp-content/uploads/2025/09/5-beers.png
END:VEVENT
BEGIN:VEVENT
DTSTART;TZID=Australia/Sydney:20260801T120000
DTEND;TZID=Australia/Sydney:20260801T170000
DTSTAMP:20260423T225040
CREATED:20250919T052150Z
LAST-MODIFIED:20260330T060234Z
UID:10004205-1785585600-1785603600@www.theshellharbourclub.com.au
SUMMARY:$5 BEERS EVERY SATURDAY
DESCRIPTION:Enjoy a $5 schooner this Saturday! \nWhen: Every Saturday\, 12pm – 5pm \nWhere: Main Bar and Sports Bar \nT&C’s Apply. Limited Time Only. Members only. Please drink responsibly. \nIncludes standard draught beer only: Tooheys NEW\, Tooheys OLD\, Tooheys Ultra\, XXXX Gold\, Hahn Super Dry\, Hahn 3.5\, Hahn Lite\, VB\, Carlton Draught
URL:https://www.theshellharbourclub.com.au/event/beers-every-saturday/2026-08-01/
LOCATION:The Shellharbour Club\, Cnr Wattle & Shellharbour Rds\, Shellharbour\, NSW\, 2529
CATEGORIES:Promotion
ATTACH;FMTTYPE=image/png:https://www.theshellharbourclub.com.au/wp-content/uploads/2025/09/5-beers.png
END:VEVENT
BEGIN:VEVENT
DTSTART;TZID=Australia/Sydney:20260808T120000
DTEND;TZID=Australia/Sydney:20260808T170000
DTSTAMP:20260423T225040
CREATED:20250919T052150Z
LAST-MODIFIED:20260330T060234Z
UID:10004206-1786190400-1786208400@www.theshellharbourclub.com.au
SUMMARY:$5 BEERS EVERY SATURDAY
DESCRIPTION:Enjoy a $5 schooner this Saturday! \nWhen: Every Saturday\, 12pm – 5pm \nWhere: Main Bar and Sports Bar \nT&C’s Apply. Limited Time Only. Members only. Please drink responsibly. \nIncludes standard draught beer only: Tooheys NEW\, Tooheys OLD\, Tooheys Ultra\, XXXX Gold\, Hahn Super Dry\, Hahn 3.5\, Hahn Lite\, VB\, Carlton Draught
URL:https://www.theshellharbourclub.com.au/event/beers-every-saturday/2026-08-08/
LOCATION:The Shellharbour Club\, Cnr Wattle & Shellharbour Rds\, Shellharbour\, NSW\, 2529
CATEGORIES:Promotion
ATTACH;FMTTYPE=image/png:https://www.theshellharbourclub.com.au/wp-content/uploads/2025/09/5-beers.png
END:VEVENT
BEGIN:VEVENT
DTSTART;TZID=Australia/Sydney:20260815T120000
DTEND;TZID=Australia/Sydney:20260815T170000
DTSTAMP:20260423T225040
CREATED:20250919T052150Z
LAST-MODIFIED:20260330T060234Z
UID:10004207-1786795200-1786813200@www.theshellharbourclub.com.au
SUMMARY:$5 BEERS EVERY SATURDAY
DESCRIPTION:Enjoy a $5 schooner this Saturday! \nWhen: Every Saturday\, 12pm – 5pm \nWhere: Main Bar and Sports Bar \nT&C’s Apply. Limited Time Only. Members only. Please drink responsibly. \nIncludes standard draught beer only: Tooheys NEW\, Tooheys OLD\, Tooheys Ultra\, XXXX Gold\, Hahn Super Dry\, Hahn 3.5\, Hahn Lite\, VB\, Carlton Draught
URL:https://www.theshellharbourclub.com.au/event/beers-every-saturday/2026-08-15/
LOCATION:The Shellharbour Club\, Cnr Wattle & Shellharbour Rds\, Shellharbour\, NSW\, 2529
CATEGORIES:Promotion
ATTACH;FMTTYPE=image/png:https://www.theshellharbourclub.com.au/wp-content/uploads/2025/09/5-beers.png
END:VEVENT
BEGIN:VEVENT
DTSTART;TZID=Australia/Sydney:20260822T120000
DTEND;TZID=Australia/Sydney:20260822T170000
DTSTAMP:20260423T225040
CREATED:20250919T052150Z
LAST-MODIFIED:20260330T060234Z
UID:10004208-1787400000-1787418000@www.theshellharbourclub.com.au
SUMMARY:$5 BEERS EVERY SATURDAY
DESCRIPTION:Enjoy a $5 schooner this Saturday! \nWhen: Every Saturday\, 12pm – 5pm \nWhere: Main Bar and Sports Bar \nT&C’s Apply. Limited Time Only. Members only. Please drink responsibly. \nIncludes standard draught beer only: Tooheys NEW\, Tooheys OLD\, Tooheys Ultra\, XXXX Gold\, Hahn Super Dry\, Hahn 3.5\, Hahn Lite\, VB\, Carlton Draught
URL:https://www.theshellharbourclub.com.au/event/beers-every-saturday/2026-08-22/
LOCATION:The Shellharbour Club\, Cnr Wattle & Shellharbour Rds\, Shellharbour\, NSW\, 2529
CATEGORIES:Promotion
ATTACH;FMTTYPE=image/png:https://www.theshellharbourclub.com.au/wp-content/uploads/2025/09/5-beers.png
END:VEVENT
BEGIN:VEVENT
DTSTART;TZID=Australia/Sydney:20260829T120000
DTEND;TZID=Australia/Sydney:20260829T170000
DTSTAMP:20260423T225040
CREATED:20250919T052150Z
LAST-MODIFIED:20260330T060234Z
UID:10004209-1788004800-1788022800@www.theshellharbourclub.com.au
SUMMARY:$5 BEERS EVERY SATURDAY
DESCRIPTION:Enjoy a $5 schooner this Saturday! \nWhen: Every Saturday\, 12pm – 5pm \nWhere: Main Bar and Sports Bar \nT&C’s Apply. Limited Time Only. Members only. Please drink responsibly. \nIncludes standard draught beer only: Tooheys NEW\, Tooheys OLD\, Tooheys Ultra\, XXXX Gold\, Hahn Super Dry\, Hahn 3.5\, Hahn Lite\, VB\, Carlton Draught
URL:https://www.theshellharbourclub.com.au/event/beers-every-saturday/2026-08-29/
LOCATION:The Shellharbour Club\, Cnr Wattle & Shellharbour Rds\, Shellharbour\, NSW\, 2529
CATEGORIES:Promotion
ATTACH;FMTTYPE=image/png:https://www.theshellharbourclub.com.au/wp-content/uploads/2025/09/5-beers.png
END:VEVENT
BEGIN:VEVENT
DTSTART;TZID=Australia/Sydney:20260905T120000
DTEND;TZID=Australia/Sydney:20260905T170000
DTSTAMP:20260423T225040
CREATED:20250919T052150Z
LAST-MODIFIED:20260330T060234Z
UID:10004210-1788609600-1788627600@www.theshellharbourclub.com.au
SUMMARY:$5 BEERS EVERY SATURDAY
DESCRIPTION:Enjoy a $5 schooner this Saturday! \nWhen: Every Saturday\, 12pm – 5pm \nWhere: Main Bar and Sports Bar \nT&C’s Apply. Limited Time Only. Members only. Please drink responsibly. \nIncludes standard draught beer only: Tooheys NEW\, Tooheys OLD\, Tooheys Ultra\, XXXX Gold\, Hahn Super Dry\, Hahn 3.5\, Hahn Lite\, VB\, Carlton Draught
URL:https://www.theshellharbourclub.com.au/event/beers-every-saturday/2026-09-05/
LOCATION:The Shellharbour Club\, Cnr Wattle & Shellharbour Rds\, Shellharbour\, NSW\, 2529
CATEGORIES:Promotion
ATTACH;FMTTYPE=image/png:https://www.theshellharbourclub.com.au/wp-content/uploads/2025/09/5-beers.png
END:VEVENT
BEGIN:VEVENT
DTSTART;TZID=Australia/Sydney:20260912T120000
DTEND;TZID=Australia/Sydney:20260912T170000
DTSTAMP:20260423T225040
CREATED:20250919T052150Z
LAST-MODIFIED:20260330T060234Z
UID:10004211-1789214400-1789232400@www.theshellharbourclub.com.au
SUMMARY:$5 BEERS EVERY SATURDAY
DESCRIPTION:Enjoy a $5 schooner this Saturday! \nWhen: Every Saturday\, 12pm – 5pm \nWhere: Main Bar and Sports Bar \nT&C’s Apply. Limited Time Only. Members only. Please drink responsibly. \nIncludes standard draught beer only: Tooheys NEW\, Tooheys OLD\, Tooheys Ultra\, XXXX Gold\, Hahn Super Dry\, Hahn 3.5\, Hahn Lite\, VB\, Carlton Draught
URL:https://www.theshellharbourclub.com.au/event/beers-every-saturday/2026-09-12/
LOCATION:The Shellharbour Club\, Cnr Wattle & Shellharbour Rds\, Shellharbour\, NSW\, 2529
CATEGORIES:Promotion
ATTACH;FMTTYPE=image/png:https://www.theshellharbourclub.com.au/wp-content/uploads/2025/09/5-beers.png
END:VEVENT
BEGIN:VEVENT
DTSTART;TZID=Australia/Sydney:20260919T120000
DTEND;TZID=Australia/Sydney:20260919T170000
DTSTAMP:20260423T225040
CREATED:20250919T052150Z
LAST-MODIFIED:20260330T060234Z
UID:10004212-1789819200-1789837200@www.theshellharbourclub.com.au
SUMMARY:$5 BEERS EVERY SATURDAY
DESCRIPTION:Enjoy a $5 schooner this Saturday! \nWhen: Every Saturday\, 12pm – 5pm \nWhere: Main Bar and Sports Bar \nT&C’s Apply. Limited Time Only. Members only. Please drink responsibly. \nIncludes standard draught beer only: Tooheys NEW\, Tooheys OLD\, Tooheys Ultra\, XXXX Gold\, Hahn Super Dry\, Hahn 3.5\, Hahn Lite\, VB\, Carlton Draught
URL:https://www.theshellharbourclub.com.au/event/beers-every-saturday/2026-09-19/
LOCATION:The Shellharbour Club\, Cnr Wattle & Shellharbour Rds\, Shellharbour\, NSW\, 2529
CATEGORIES:Promotion
ATTACH;FMTTYPE=image/png:https://www.theshellharbourclub.com.au/wp-content/uploads/2025/09/5-beers.png
END:VEVENT
BEGIN:VEVENT
DTSTART;TZID=Australia/Sydney:20260926T120000
DTEND;TZID=Australia/Sydney:20260926T170000
DTSTAMP:20260423T225040
CREATED:20250919T052150Z
LAST-MODIFIED:20260330T060234Z
UID:10004213-1790424000-1790442000@www.theshellharbourclub.com.au
SUMMARY:$5 BEERS EVERY SATURDAY
DESCRIPTION:Enjoy a $5 schooner this Saturday! \nWhen: Every Saturday\, 12pm – 5pm \nWhere: Main Bar and Sports Bar \nT&C’s Apply. Limited Time Only. Members only. Please drink responsibly. \nIncludes standard draught beer only: Tooheys NEW\, Tooheys OLD\, Tooheys Ultra\, XXXX Gold\, Hahn Super Dry\, Hahn 3.5\, Hahn Lite\, VB\, Carlton Draught
URL:https://www.theshellharbourclub.com.au/event/beers-every-saturday/2026-09-26/
LOCATION:The Shellharbour Club\, Cnr Wattle & Shellharbour Rds\, Shellharbour\, NSW\, 2529
CATEGORIES:Promotion
ATTACH;FMTTYPE=image/png:https://www.theshellharbourclub.com.au/wp-content/uploads/2025/09/5-beers.png
END:VEVENT
BEGIN:VEVENT
DTSTART;TZID=Australia/Sydney:20261003T120000
DTEND;TZID=Australia/Sydney:20261003T170000
DTSTAMP:20260423T225040
CREATED:20250919T052150Z
LAST-MODIFIED:20260330T060234Z
UID:10004214-1791028800-1791046800@www.theshellharbourclub.com.au
SUMMARY:$5 BEERS EVERY SATURDAY
DESCRIPTION:Enjoy a $5 schooner this Saturday! \nWhen: Every Saturday\, 12pm – 5pm \nWhere: Main Bar and Sports Bar \nT&C’s Apply. Limited Time Only. Members only. Please drink responsibly. \nIncludes standard draught beer only: Tooheys NEW\, Tooheys OLD\, Tooheys Ultra\, XXXX Gold\, Hahn Super Dry\, Hahn 3.5\, Hahn Lite\, VB\, Carlton Draught
URL:https://www.theshellharbourclub.com.au/event/beers-every-saturday/2026-10-03/
LOCATION:The Shellharbour Club\, Cnr Wattle & Shellharbour Rds\, Shellharbour\, NSW\, 2529
CATEGORIES:Promotion
ATTACH;FMTTYPE=image/png:https://www.theshellharbourclub.com.au/wp-content/uploads/2025/09/5-beers.png
END:VEVENT
BEGIN:VEVENT
DTSTART;TZID=Australia/Sydney:20261010T120000
DTEND;TZID=Australia/Sydney:20261010T170000
DTSTAMP:20260423T225040
CREATED:20250919T052150Z
LAST-MODIFIED:20260330T060234Z
UID:10004215-1791633600-1791651600@www.theshellharbourclub.com.au
SUMMARY:$5 BEERS EVERY SATURDAY
DESCRIPTION:Enjoy a $5 schooner this Saturday! \nWhen: Every Saturday\, 12pm – 5pm \nWhere: Main Bar and Sports Bar \nT&C’s Apply. Limited Time Only. Members only. Please drink responsibly. \nIncludes standard draught beer only: Tooheys NEW\, Tooheys OLD\, Tooheys Ultra\, XXXX Gold\, Hahn Super Dry\, Hahn 3.5\, Hahn Lite\, VB\, Carlton Draught
URL:https://www.theshellharbourclub.com.au/event/beers-every-saturday/2026-10-10/
LOCATION:The Shellharbour Club\, Cnr Wattle & Shellharbour Rds\, Shellharbour\, NSW\, 2529
CATEGORIES:Promotion
ATTACH;FMTTYPE=image/png:https://www.theshellharbourclub.com.au/wp-content/uploads/2025/09/5-beers.png
END:VEVENT
BEGIN:VEVENT
DTSTART;TZID=Australia/Sydney:20261017T120000
DTEND;TZID=Australia/Sydney:20261017T170000
DTSTAMP:20260423T225040
CREATED:20250919T052150Z
LAST-MODIFIED:20260330T060234Z
UID:10004216-1792238400-1792256400@www.theshellharbourclub.com.au
SUMMARY:$5 BEERS EVERY SATURDAY
DESCRIPTION:Enjoy a $5 schooner this Saturday! \nWhen: Every Saturday\, 12pm – 5pm \nWhere: Main Bar and Sports Bar \nT&C’s Apply. Limited Time Only. Members only. Please drink responsibly. \nIncludes standard draught beer only: Tooheys NEW\, Tooheys OLD\, Tooheys Ultra\, XXXX Gold\, Hahn Super Dry\, Hahn 3.5\, Hahn Lite\, VB\, Carlton Draught
URL:https://www.theshellharbourclub.com.au/event/beers-every-saturday/2026-10-17/
LOCATION:The Shellharbour Club\, Cnr Wattle & Shellharbour Rds\, Shellharbour\, NSW\, 2529
CATEGORIES:Promotion
ATTACH;FMTTYPE=image/png:https://www.theshellharbourclub.com.au/wp-content/uploads/2025/09/5-beers.png
END:VEVENT
BEGIN:VEVENT
DTSTART;TZID=Australia/Sydney:20261024T120000
DTEND;TZID=Australia/Sydney:20261024T170000
DTSTAMP:20260423T225040
CREATED:20250919T052150Z
LAST-MODIFIED:20260330T060234Z
UID:10004217-1792843200-1792861200@www.theshellharbourclub.com.au
SUMMARY:$5 BEERS EVERY SATURDAY
DESCRIPTION:Enjoy a $5 schooner this Saturday! \nWhen: Every Saturday\, 12pm – 5pm \nWhere: Main Bar and Sports Bar \nT&C’s Apply. Limited Time Only. Members only. Please drink responsibly. \nIncludes standard draught beer only: Tooheys NEW\, Tooheys OLD\, Tooheys Ultra\, XXXX Gold\, Hahn Super Dry\, Hahn 3.5\, Hahn Lite\, VB\, Carlton Draught
URL:https://www.theshellharbourclub.com.au/event/beers-every-saturday/2026-10-24/
LOCATION:The Shellharbour Club\, Cnr Wattle & Shellharbour Rds\, Shellharbour\, NSW\, 2529
CATEGORIES:Promotion
ATTACH;FMTTYPE=image/png:https://www.theshellharbourclub.com.au/wp-content/uploads/2025/09/5-beers.png
END:VEVENT
BEGIN:VEVENT
DTSTART;TZID=Australia/Sydney:20261031T120000
DTEND;TZID=Australia/Sydney:20261031T170000
DTSTAMP:20260423T225040
CREATED:20250919T052150Z
LAST-MODIFIED:20260330T060234Z
UID:10004218-1793448000-1793466000@www.theshellharbourclub.com.au
SUMMARY:$5 BEERS EVERY SATURDAY
DESCRIPTION:Enjoy a $5 schooner this Saturday! \nWhen: Every Saturday\, 12pm – 5pm \nWhere: Main Bar and Sports Bar \nT&C’s Apply. Limited Time Only. Members only. Please drink responsibly. \nIncludes standard draught beer only: Tooheys NEW\, Tooheys OLD\, Tooheys Ultra\, XXXX Gold\, Hahn Super Dry\, Hahn 3.5\, Hahn Lite\, VB\, Carlton Draught
URL:https://www.theshellharbourclub.com.au/event/beers-every-saturday/2026-10-31/
LOCATION:The Shellharbour Club\, Cnr Wattle & Shellharbour Rds\, Shellharbour\, NSW\, 2529
CATEGORIES:Promotion
ATTACH;FMTTYPE=image/png:https://www.theshellharbourclub.com.au/wp-content/uploads/2025/09/5-beers.png
END:VEVENT
END:VCALENDAR