BEGIN:VCALENDAR
VERSION:2.0
PRODID:-//The Shellharbour Club - ECPv6.15.20//NONSGML v1.0//EN
CALSCALE:GREGORIAN
METHOD:PUBLISH
X-WR-CALNAME:The Shellharbour Club
X-ORIGINAL-URL:https://www.theshellharbourclub.com.au
X-WR-CALDESC:Events for The Shellharbour Club
REFRESH-INTERVAL;VALUE=DURATION:PT1H
X-Robots-Tag:noindex
X-PUBLISHED-TTL:PT1H
BEGIN:VTIMEZONE
TZID:Australia/Sydney
BEGIN:STANDARD
TZOFFSETFROM:+1100
TZOFFSETTO:+1000
TZNAME:AEST
DTSTART:20250405T160000
END:STANDARD
BEGIN:DAYLIGHT
TZOFFSETFROM:+1000
TZOFFSETTO:+1100
TZNAME:AEDT
DTSTART:20251004T160000
END:DAYLIGHT
BEGIN:STANDARD
TZOFFSETFROM:+1100
TZOFFSETTO:+1000
TZNAME:AEST
DTSTART:20260404T160000
END:STANDARD
BEGIN:DAYLIGHT
TZOFFSETFROM:+1000
TZOFFSETTO:+1100
TZNAME:AEDT
DTSTART:20261003T160000
END:DAYLIGHT
BEGIN:STANDARD
TZOFFSETFROM:+1100
TZOFFSETTO:+1000
TZNAME:AEST
DTSTART:20270403T160000
END:STANDARD
BEGIN:DAYLIGHT
TZOFFSETFROM:+1000
TZOFFSETTO:+1100
TZNAME:AEDT
DTSTART:20271002T160000
END:DAYLIGHT
END:VTIMEZONE
BEGIN:VEVENT
DTSTART;TZID=Australia/Sydney:20260422T113000
DTEND;TZID=Australia/Sydney:20260422T143000
DTSTAMP:20260421T235103
CREATED:20260104T235519Z
LAST-MODIFIED:20260414T003722Z
UID:10007754-1776857400-1776868200@www.theshellharbourclub.com.au
SUMMARY:40% OFF CLUB CLASSICS
DESCRIPTION:40% CLUB CLASSICS\n\n\n\n\nMON – FRI LUNCH & DINNER\nFIFTYSIX DINING\n\n\n\n\n\n350g Pasture Fed Rump Steak (gf)\nBurrito Bowl (v) (gf)\nBeer-Battered Fish\nSalt & Pepper Squid\nCrumbed Chicken Schnitzel\nChicken Parmigiana\nClassic Chicken Schnitzel Burger\nWagyu Beef Burger\n\n*T&C’s apply. Available Monday – Friday\, for lunch & dinner. Not available on public holidays. Members only.
URL:https://www.theshellharbourclub.com.au/event/40-off-club-classics/2026-04-22/
ATTACH;FMTTYPE=image/png:https://www.theshellharbourclub.com.au/wp-content/uploads/2026/01/Untitled-design-22.png
END:VEVENT
BEGIN:VEVENT
DTSTART;TZID=Australia/Sydney:20260422T173000
DTEND;TZID=Australia/Sydney:20260422T203000
DTSTAMP:20260421T235103
CREATED:20260104T235802Z
LAST-MODIFIED:20260414T003654Z
UID:10010364-1776879000-1776889800@www.theshellharbourclub.com.au
SUMMARY:40% OFF CLUB CLASSICS
DESCRIPTION:40% CLUB CLASSICS\n\n\n\n\nMON – FRI LUNCH & DINNER\nFIFTYSIX DINING\n\n\n\n\n\n350g Pasture Fed Rump Steak (gf)\nBurrito Bowl (v) (gf)\nBeer-Battered Fish\nSalt & Pepper Squid\nCrumbed Chicken Schnitzel\nChicken Parmigiana\nClassic Chicken Schnitzel Burger\nWagyu Beef Burger\n\n*T&C’s apply. Available Monday – Friday\, for lunch & dinner. Not available on public holidays. Members only.
URL:https://www.theshellharbourclub.com.au/event/40-off-club-classics-2/2026-04-22/
ATTACH;FMTTYPE=image/png:https://www.theshellharbourclub.com.au/wp-content/uploads/2026/01/Untitled-design-22-1.png
END:VEVENT
BEGIN:VEVENT
DTSTART;TZID=Australia/Sydney:20260423T113000
DTEND;TZID=Australia/Sydney:20260423T143000
DTSTAMP:20260421T235103
CREATED:20260104T235519Z
LAST-MODIFIED:20260414T003722Z
UID:10007755-1776943800-1776954600@www.theshellharbourclub.com.au
SUMMARY:40% OFF CLUB CLASSICS
DESCRIPTION:40% CLUB CLASSICS\n\n\n\n\nMON – FRI LUNCH & DINNER\nFIFTYSIX DINING\n\n\n\n\n\n350g Pasture Fed Rump Steak (gf)\nBurrito Bowl (v) (gf)\nBeer-Battered Fish\nSalt & Pepper Squid\nCrumbed Chicken Schnitzel\nChicken Parmigiana\nClassic Chicken Schnitzel Burger\nWagyu Beef Burger\n\n*T&C’s apply. Available Monday – Friday\, for lunch & dinner. Not available on public holidays. Members only.
URL:https://www.theshellharbourclub.com.au/event/40-off-club-classics/2026-04-23/
ATTACH;FMTTYPE=image/png:https://www.theshellharbourclub.com.au/wp-content/uploads/2026/01/Untitled-design-22.png
END:VEVENT
BEGIN:VEVENT
DTSTART;TZID=Australia/Sydney:20260423T173000
DTEND;TZID=Australia/Sydney:20260423T203000
DTSTAMP:20260421T235103
CREATED:20260104T235802Z
LAST-MODIFIED:20260414T003654Z
UID:10010365-1776965400-1776976200@www.theshellharbourclub.com.au
SUMMARY:40% OFF CLUB CLASSICS
DESCRIPTION:40% CLUB CLASSICS\n\n\n\n\nMON – FRI LUNCH & DINNER\nFIFTYSIX DINING\n\n\n\n\n\n350g Pasture Fed Rump Steak (gf)\nBurrito Bowl (v) (gf)\nBeer-Battered Fish\nSalt & Pepper Squid\nCrumbed Chicken Schnitzel\nChicken Parmigiana\nClassic Chicken Schnitzel Burger\nWagyu Beef Burger\n\n*T&C’s apply. Available Monday – Friday\, for lunch & dinner. Not available on public holidays. Members only.
URL:https://www.theshellharbourclub.com.au/event/40-off-club-classics-2/2026-04-23/
ATTACH;FMTTYPE=image/png:https://www.theshellharbourclub.com.au/wp-content/uploads/2026/01/Untitled-design-22-1.png
END:VEVENT
BEGIN:VEVENT
DTSTART;TZID=Australia/Sydney:20260424T113000
DTEND;TZID=Australia/Sydney:20260424T143000
DTSTAMP:20260421T235103
CREATED:20260104T235519Z
LAST-MODIFIED:20260414T003722Z
UID:10007756-1777030200-1777041000@www.theshellharbourclub.com.au
SUMMARY:40% OFF CLUB CLASSICS
DESCRIPTION:40% CLUB CLASSICS\n\n\n\n\nMON – FRI LUNCH & DINNER\nFIFTYSIX DINING\n\n\n\n\n\n350g Pasture Fed Rump Steak (gf)\nBurrito Bowl (v) (gf)\nBeer-Battered Fish\nSalt & Pepper Squid\nCrumbed Chicken Schnitzel\nChicken Parmigiana\nClassic Chicken Schnitzel Burger\nWagyu Beef Burger\n\n*T&C’s apply. Available Monday – Friday\, for lunch & dinner. Not available on public holidays. Members only.
URL:https://www.theshellharbourclub.com.au/event/40-off-club-classics/2026-04-24/
ATTACH;FMTTYPE=image/png:https://www.theshellharbourclub.com.au/wp-content/uploads/2026/01/Untitled-design-22.png
END:VEVENT
BEGIN:VEVENT
DTSTART;TZID=Australia/Sydney:20260424T173000
DTEND;TZID=Australia/Sydney:20260424T203000
DTSTAMP:20260421T235103
CREATED:20260104T235802Z
LAST-MODIFIED:20260414T003654Z
UID:10010366-1777051800-1777062600@www.theshellharbourclub.com.au
SUMMARY:40% OFF CLUB CLASSICS
DESCRIPTION:40% CLUB CLASSICS\n\n\n\n\nMON – FRI LUNCH & DINNER\nFIFTYSIX DINING\n\n\n\n\n\n350g Pasture Fed Rump Steak (gf)\nBurrito Bowl (v) (gf)\nBeer-Battered Fish\nSalt & Pepper Squid\nCrumbed Chicken Schnitzel\nChicken Parmigiana\nClassic Chicken Schnitzel Burger\nWagyu Beef Burger\n\n*T&C’s apply. Available Monday – Friday\, for lunch & dinner. Not available on public holidays. Members only.
URL:https://www.theshellharbourclub.com.au/event/40-off-club-classics-2/2026-04-24/
ATTACH;FMTTYPE=image/png:https://www.theshellharbourclub.com.au/wp-content/uploads/2026/01/Untitled-design-22-1.png
END:VEVENT
BEGIN:VEVENT
DTSTART;TZID=Australia/Sydney:20260428T113000
DTEND;TZID=Australia/Sydney:20260428T143000
DTSTAMP:20260421T235103
CREATED:20260104T235519Z
LAST-MODIFIED:20260414T003722Z
UID:10007758-1777375800-1777386600@www.theshellharbourclub.com.au
SUMMARY:40% OFF CLUB CLASSICS
DESCRIPTION:40% CLUB CLASSICS\n\n\n\n\nMON – FRI LUNCH & DINNER\nFIFTYSIX DINING\n\n\n\n\n\n350g Pasture Fed Rump Steak (gf)\nBurrito Bowl (v) (gf)\nBeer-Battered Fish\nSalt & Pepper Squid\nCrumbed Chicken Schnitzel\nChicken Parmigiana\nClassic Chicken Schnitzel Burger\nWagyu Beef Burger\n\n*T&C’s apply. Available Monday – Friday\, for lunch & dinner. Not available on public holidays. Members only.
URL:https://www.theshellharbourclub.com.au/event/40-off-club-classics/2026-04-28/
ATTACH;FMTTYPE=image/png:https://www.theshellharbourclub.com.au/wp-content/uploads/2026/01/Untitled-design-22.png
END:VEVENT
BEGIN:VEVENT
DTSTART;TZID=Australia/Sydney:20260428T173000
DTEND;TZID=Australia/Sydney:20260428T203000
DTSTAMP:20260421T235103
CREATED:20260104T235802Z
LAST-MODIFIED:20260414T003654Z
UID:10010368-1777397400-1777408200@www.theshellharbourclub.com.au
SUMMARY:40% OFF CLUB CLASSICS
DESCRIPTION:40% CLUB CLASSICS\n\n\n\n\nMON – FRI LUNCH & DINNER\nFIFTYSIX DINING\n\n\n\n\n\n350g Pasture Fed Rump Steak (gf)\nBurrito Bowl (v) (gf)\nBeer-Battered Fish\nSalt & Pepper Squid\nCrumbed Chicken Schnitzel\nChicken Parmigiana\nClassic Chicken Schnitzel Burger\nWagyu Beef Burger\n\n*T&C’s apply. Available Monday – Friday\, for lunch & dinner. Not available on public holidays. Members only.
URL:https://www.theshellharbourclub.com.au/event/40-off-club-classics-2/2026-04-28/
ATTACH;FMTTYPE=image/png:https://www.theshellharbourclub.com.au/wp-content/uploads/2026/01/Untitled-design-22-1.png
END:VEVENT
BEGIN:VEVENT
DTSTART;TZID=Australia/Sydney:20260429T113000
DTEND;TZID=Australia/Sydney:20260429T143000
DTSTAMP:20260421T235103
CREATED:20260104T235519Z
LAST-MODIFIED:20260414T003722Z
UID:10007759-1777462200-1777473000@www.theshellharbourclub.com.au
SUMMARY:40% OFF CLUB CLASSICS
DESCRIPTION:40% CLUB CLASSICS\n\n\n\n\nMON – FRI LUNCH & DINNER\nFIFTYSIX DINING\n\n\n\n\n\n350g Pasture Fed Rump Steak (gf)\nBurrito Bowl (v) (gf)\nBeer-Battered Fish\nSalt & Pepper Squid\nCrumbed Chicken Schnitzel\nChicken Parmigiana\nClassic Chicken Schnitzel Burger\nWagyu Beef Burger\n\n*T&C’s apply. Available Monday – Friday\, for lunch & dinner. Not available on public holidays. Members only.
URL:https://www.theshellharbourclub.com.au/event/40-off-club-classics/2026-04-29/
ATTACH;FMTTYPE=image/png:https://www.theshellharbourclub.com.au/wp-content/uploads/2026/01/Untitled-design-22.png
END:VEVENT
BEGIN:VEVENT
DTSTART;TZID=Australia/Sydney:20260429T173000
DTEND;TZID=Australia/Sydney:20260429T203000
DTSTAMP:20260421T235103
CREATED:20260104T235802Z
LAST-MODIFIED:20260414T003654Z
UID:10010369-1777483800-1777494600@www.theshellharbourclub.com.au
SUMMARY:40% OFF CLUB CLASSICS
DESCRIPTION:40% CLUB CLASSICS\n\n\n\n\nMON – FRI LUNCH & DINNER\nFIFTYSIX DINING\n\n\n\n\n\n350g Pasture Fed Rump Steak (gf)\nBurrito Bowl (v) (gf)\nBeer-Battered Fish\nSalt & Pepper Squid\nCrumbed Chicken Schnitzel\nChicken Parmigiana\nClassic Chicken Schnitzel Burger\nWagyu Beef Burger\n\n*T&C’s apply. Available Monday – Friday\, for lunch & dinner. Not available on public holidays. Members only.
URL:https://www.theshellharbourclub.com.au/event/40-off-club-classics-2/2026-04-29/
ATTACH;FMTTYPE=image/png:https://www.theshellharbourclub.com.au/wp-content/uploads/2026/01/Untitled-design-22-1.png
END:VEVENT
BEGIN:VEVENT
DTSTART;TZID=Australia/Sydney:20260430T113000
DTEND;TZID=Australia/Sydney:20260430T143000
DTSTAMP:20260421T235103
CREATED:20260104T235519Z
LAST-MODIFIED:20260414T003722Z
UID:10007760-1777548600-1777559400@www.theshellharbourclub.com.au
SUMMARY:40% OFF CLUB CLASSICS
DESCRIPTION:40% CLUB CLASSICS\n\n\n\n\nMON – FRI LUNCH & DINNER\nFIFTYSIX DINING\n\n\n\n\n\n350g Pasture Fed Rump Steak (gf)\nBurrito Bowl (v) (gf)\nBeer-Battered Fish\nSalt & Pepper Squid\nCrumbed Chicken Schnitzel\nChicken Parmigiana\nClassic Chicken Schnitzel Burger\nWagyu Beef Burger\n\n*T&C’s apply. Available Monday – Friday\, for lunch & dinner. Not available on public holidays. Members only.
URL:https://www.theshellharbourclub.com.au/event/40-off-club-classics/2026-04-30/
ATTACH;FMTTYPE=image/png:https://www.theshellharbourclub.com.au/wp-content/uploads/2026/01/Untitled-design-22.png
END:VEVENT
BEGIN:VEVENT
DTSTART;TZID=Australia/Sydney:20260430T173000
DTEND;TZID=Australia/Sydney:20260430T203000
DTSTAMP:20260421T235103
CREATED:20260104T235802Z
LAST-MODIFIED:20260414T003654Z
UID:10010370-1777570200-1777581000@www.theshellharbourclub.com.au
SUMMARY:40% OFF CLUB CLASSICS
DESCRIPTION:40% CLUB CLASSICS\n\n\n\n\nMON – FRI LUNCH & DINNER\nFIFTYSIX DINING\n\n\n\n\n\n350g Pasture Fed Rump Steak (gf)\nBurrito Bowl (v) (gf)\nBeer-Battered Fish\nSalt & Pepper Squid\nCrumbed Chicken Schnitzel\nChicken Parmigiana\nClassic Chicken Schnitzel Burger\nWagyu Beef Burger\n\n*T&C’s apply. Available Monday – Friday\, for lunch & dinner. Not available on public holidays. Members only.
URL:https://www.theshellharbourclub.com.au/event/40-off-club-classics-2/2026-04-30/
ATTACH;FMTTYPE=image/png:https://www.theshellharbourclub.com.au/wp-content/uploads/2026/01/Untitled-design-22-1.png
END:VEVENT
BEGIN:VEVENT
DTSTART;TZID=Australia/Sydney:20260501T113000
DTEND;TZID=Australia/Sydney:20260501T143000
DTSTAMP:20260421T235103
CREATED:20260104T235519Z
LAST-MODIFIED:20260414T003722Z
UID:10007761-1777635000-1777645800@www.theshellharbourclub.com.au
SUMMARY:40% OFF CLUB CLASSICS
DESCRIPTION:40% CLUB CLASSICS\n\n\n\n\nMON – FRI LUNCH & DINNER\nFIFTYSIX DINING\n\n\n\n\n\n350g Pasture Fed Rump Steak (gf)\nBurrito Bowl (v) (gf)\nBeer-Battered Fish\nSalt & Pepper Squid\nCrumbed Chicken Schnitzel\nChicken Parmigiana\nClassic Chicken Schnitzel Burger\nWagyu Beef Burger\n\n*T&C’s apply. Available Monday – Friday\, for lunch & dinner. Not available on public holidays. Members only.
URL:https://www.theshellharbourclub.com.au/event/40-off-club-classics/2026-05-01/
ATTACH;FMTTYPE=image/png:https://www.theshellharbourclub.com.au/wp-content/uploads/2026/01/Untitled-design-22.png
END:VEVENT
BEGIN:VEVENT
DTSTART;TZID=Australia/Sydney:20260501T173000
DTEND;TZID=Australia/Sydney:20260501T203000
DTSTAMP:20260421T235103
CREATED:20260104T235802Z
LAST-MODIFIED:20260414T003654Z
UID:10010371-1777656600-1777667400@www.theshellharbourclub.com.au
SUMMARY:40% OFF CLUB CLASSICS
DESCRIPTION:40% CLUB CLASSICS\n\n\n\n\nMON – FRI LUNCH & DINNER\nFIFTYSIX DINING\n\n\n\n\n\n350g Pasture Fed Rump Steak (gf)\nBurrito Bowl (v) (gf)\nBeer-Battered Fish\nSalt & Pepper Squid\nCrumbed Chicken Schnitzel\nChicken Parmigiana\nClassic Chicken Schnitzel Burger\nWagyu Beef Burger\n\n*T&C’s apply. Available Monday – Friday\, for lunch & dinner. Not available on public holidays. Members only.
URL:https://www.theshellharbourclub.com.au/event/40-off-club-classics-2/2026-05-01/
ATTACH;FMTTYPE=image/png:https://www.theshellharbourclub.com.au/wp-content/uploads/2026/01/Untitled-design-22-1.png
END:VEVENT
BEGIN:VEVENT
DTSTART;TZID=Australia/Sydney:20260504T113000
DTEND;TZID=Australia/Sydney:20260504T143000
DTSTAMP:20260421T235103
CREATED:20260104T235519Z
LAST-MODIFIED:20260414T003722Z
UID:10007762-1777894200-1777905000@www.theshellharbourclub.com.au
SUMMARY:40% OFF CLUB CLASSICS
DESCRIPTION:40% CLUB CLASSICS\n\n\n\n\nMON – FRI LUNCH & DINNER\nFIFTYSIX DINING\n\n\n\n\n\n350g Pasture Fed Rump Steak (gf)\nBurrito Bowl (v) (gf)\nBeer-Battered Fish\nSalt & Pepper Squid\nCrumbed Chicken Schnitzel\nChicken Parmigiana\nClassic Chicken Schnitzel Burger\nWagyu Beef Burger\n\n*T&C’s apply. Available Monday – Friday\, for lunch & dinner. Not available on public holidays. Members only.
URL:https://www.theshellharbourclub.com.au/event/40-off-club-classics/2026-05-04/
ATTACH;FMTTYPE=image/png:https://www.theshellharbourclub.com.au/wp-content/uploads/2026/01/Untitled-design-22.png
END:VEVENT
BEGIN:VEVENT
DTSTART;TZID=Australia/Sydney:20260504T173000
DTEND;TZID=Australia/Sydney:20260504T203000
DTSTAMP:20260421T235103
CREATED:20260104T235802Z
LAST-MODIFIED:20260414T003654Z
UID:10010372-1777915800-1777926600@www.theshellharbourclub.com.au
SUMMARY:40% OFF CLUB CLASSICS
DESCRIPTION:40% CLUB CLASSICS\n\n\n\n\nMON – FRI LUNCH & DINNER\nFIFTYSIX DINING\n\n\n\n\n\n350g Pasture Fed Rump Steak (gf)\nBurrito Bowl (v) (gf)\nBeer-Battered Fish\nSalt & Pepper Squid\nCrumbed Chicken Schnitzel\nChicken Parmigiana\nClassic Chicken Schnitzel Burger\nWagyu Beef Burger\n\n*T&C’s apply. Available Monday – Friday\, for lunch & dinner. Not available on public holidays. Members only.
URL:https://www.theshellharbourclub.com.au/event/40-off-club-classics-2/2026-05-04/
ATTACH;FMTTYPE=image/png:https://www.theshellharbourclub.com.au/wp-content/uploads/2026/01/Untitled-design-22-1.png
END:VEVENT
BEGIN:VEVENT
DTSTART;TZID=Australia/Sydney:20260505T113000
DTEND;TZID=Australia/Sydney:20260505T143000
DTSTAMP:20260421T235103
CREATED:20260104T235519Z
LAST-MODIFIED:20260414T003722Z
UID:10007763-1777980600-1777991400@www.theshellharbourclub.com.au
SUMMARY:40% OFF CLUB CLASSICS
DESCRIPTION:40% CLUB CLASSICS\n\n\n\n\nMON – FRI LUNCH & DINNER\nFIFTYSIX DINING\n\n\n\n\n\n350g Pasture Fed Rump Steak (gf)\nBurrito Bowl (v) (gf)\nBeer-Battered Fish\nSalt & Pepper Squid\nCrumbed Chicken Schnitzel\nChicken Parmigiana\nClassic Chicken Schnitzel Burger\nWagyu Beef Burger\n\n*T&C’s apply. Available Monday – Friday\, for lunch & dinner. Not available on public holidays. Members only.
URL:https://www.theshellharbourclub.com.au/event/40-off-club-classics/2026-05-05/
ATTACH;FMTTYPE=image/png:https://www.theshellharbourclub.com.au/wp-content/uploads/2026/01/Untitled-design-22.png
END:VEVENT
BEGIN:VEVENT
DTSTART;TZID=Australia/Sydney:20260505T173000
DTEND;TZID=Australia/Sydney:20260505T203000
DTSTAMP:20260421T235103
CREATED:20260104T235802Z
LAST-MODIFIED:20260414T003654Z
UID:10010373-1778002200-1778013000@www.theshellharbourclub.com.au
SUMMARY:40% OFF CLUB CLASSICS
DESCRIPTION:40% CLUB CLASSICS\n\n\n\n\nMON – FRI LUNCH & DINNER\nFIFTYSIX DINING\n\n\n\n\n\n350g Pasture Fed Rump Steak (gf)\nBurrito Bowl (v) (gf)\nBeer-Battered Fish\nSalt & Pepper Squid\nCrumbed Chicken Schnitzel\nChicken Parmigiana\nClassic Chicken Schnitzel Burger\nWagyu Beef Burger\n\n*T&C’s apply. Available Monday – Friday\, for lunch & dinner. Not available on public holidays. Members only.
URL:https://www.theshellharbourclub.com.au/event/40-off-club-classics-2/2026-05-05/
ATTACH;FMTTYPE=image/png:https://www.theshellharbourclub.com.au/wp-content/uploads/2026/01/Untitled-design-22-1.png
END:VEVENT
BEGIN:VEVENT
DTSTART;TZID=Australia/Sydney:20260506T113000
DTEND;TZID=Australia/Sydney:20260506T143000
DTSTAMP:20260421T235103
CREATED:20260104T235519Z
LAST-MODIFIED:20260414T003722Z
UID:10007764-1778067000-1778077800@www.theshellharbourclub.com.au
SUMMARY:40% OFF CLUB CLASSICS
DESCRIPTION:40% CLUB CLASSICS\n\n\n\n\nMON – FRI LUNCH & DINNER\nFIFTYSIX DINING\n\n\n\n\n\n350g Pasture Fed Rump Steak (gf)\nBurrito Bowl (v) (gf)\nBeer-Battered Fish\nSalt & Pepper Squid\nCrumbed Chicken Schnitzel\nChicken Parmigiana\nClassic Chicken Schnitzel Burger\nWagyu Beef Burger\n\n*T&C’s apply. Available Monday – Friday\, for lunch & dinner. Not available on public holidays. Members only.
URL:https://www.theshellharbourclub.com.au/event/40-off-club-classics/2026-05-06/
ATTACH;FMTTYPE=image/png:https://www.theshellharbourclub.com.au/wp-content/uploads/2026/01/Untitled-design-22.png
END:VEVENT
BEGIN:VEVENT
DTSTART;TZID=Australia/Sydney:20260506T173000
DTEND;TZID=Australia/Sydney:20260506T203000
DTSTAMP:20260421T235103
CREATED:20260104T235802Z
LAST-MODIFIED:20260414T003654Z
UID:10010374-1778088600-1778099400@www.theshellharbourclub.com.au
SUMMARY:40% OFF CLUB CLASSICS
DESCRIPTION:40% CLUB CLASSICS\n\n\n\n\nMON – FRI LUNCH & DINNER\nFIFTYSIX DINING\n\n\n\n\n\n350g Pasture Fed Rump Steak (gf)\nBurrito Bowl (v) (gf)\nBeer-Battered Fish\nSalt & Pepper Squid\nCrumbed Chicken Schnitzel\nChicken Parmigiana\nClassic Chicken Schnitzel Burger\nWagyu Beef Burger\n\n*T&C’s apply. Available Monday – Friday\, for lunch & dinner. Not available on public holidays. Members only.
URL:https://www.theshellharbourclub.com.au/event/40-off-club-classics-2/2026-05-06/
ATTACH;FMTTYPE=image/png:https://www.theshellharbourclub.com.au/wp-content/uploads/2026/01/Untitled-design-22-1.png
END:VEVENT
BEGIN:VEVENT
DTSTART;TZID=Australia/Sydney:20260507T113000
DTEND;TZID=Australia/Sydney:20260507T143000
DTSTAMP:20260421T235103
CREATED:20260104T235519Z
LAST-MODIFIED:20260414T003722Z
UID:10007765-1778153400-1778164200@www.theshellharbourclub.com.au
SUMMARY:40% OFF CLUB CLASSICS
DESCRIPTION:40% CLUB CLASSICS\n\n\n\n\nMON – FRI LUNCH & DINNER\nFIFTYSIX DINING\n\n\n\n\n\n350g Pasture Fed Rump Steak (gf)\nBurrito Bowl (v) (gf)\nBeer-Battered Fish\nSalt & Pepper Squid\nCrumbed Chicken Schnitzel\nChicken Parmigiana\nClassic Chicken Schnitzel Burger\nWagyu Beef Burger\n\n*T&C’s apply. Available Monday – Friday\, for lunch & dinner. Not available on public holidays. Members only.
URL:https://www.theshellharbourclub.com.au/event/40-off-club-classics/2026-05-07/
ATTACH;FMTTYPE=image/png:https://www.theshellharbourclub.com.au/wp-content/uploads/2026/01/Untitled-design-22.png
END:VEVENT
BEGIN:VEVENT
DTSTART;TZID=Australia/Sydney:20260507T173000
DTEND;TZID=Australia/Sydney:20260507T203000
DTSTAMP:20260421T235103
CREATED:20260104T235802Z
LAST-MODIFIED:20260414T003654Z
UID:10010375-1778175000-1778185800@www.theshellharbourclub.com.au
SUMMARY:40% OFF CLUB CLASSICS
DESCRIPTION:40% CLUB CLASSICS\n\n\n\n\nMON – FRI LUNCH & DINNER\nFIFTYSIX DINING\n\n\n\n\n\n350g Pasture Fed Rump Steak (gf)\nBurrito Bowl (v) (gf)\nBeer-Battered Fish\nSalt & Pepper Squid\nCrumbed Chicken Schnitzel\nChicken Parmigiana\nClassic Chicken Schnitzel Burger\nWagyu Beef Burger\n\n*T&C’s apply. Available Monday – Friday\, for lunch & dinner. Not available on public holidays. Members only.
URL:https://www.theshellharbourclub.com.au/event/40-off-club-classics-2/2026-05-07/
ATTACH;FMTTYPE=image/png:https://www.theshellharbourclub.com.au/wp-content/uploads/2026/01/Untitled-design-22-1.png
END:VEVENT
BEGIN:VEVENT
DTSTART;TZID=Australia/Sydney:20260508T113000
DTEND;TZID=Australia/Sydney:20260508T143000
DTSTAMP:20260421T235103
CREATED:20260104T235519Z
LAST-MODIFIED:20260414T003722Z
UID:10007766-1778239800-1778250600@www.theshellharbourclub.com.au
SUMMARY:40% OFF CLUB CLASSICS
DESCRIPTION:40% CLUB CLASSICS\n\n\n\n\nMON – FRI LUNCH & DINNER\nFIFTYSIX DINING\n\n\n\n\n\n350g Pasture Fed Rump Steak (gf)\nBurrito Bowl (v) (gf)\nBeer-Battered Fish\nSalt & Pepper Squid\nCrumbed Chicken Schnitzel\nChicken Parmigiana\nClassic Chicken Schnitzel Burger\nWagyu Beef Burger\n\n*T&C’s apply. Available Monday – Friday\, for lunch & dinner. Not available on public holidays. Members only.
URL:https://www.theshellharbourclub.com.au/event/40-off-club-classics/2026-05-08/
ATTACH;FMTTYPE=image/png:https://www.theshellharbourclub.com.au/wp-content/uploads/2026/01/Untitled-design-22.png
END:VEVENT
BEGIN:VEVENT
DTSTART;TZID=Australia/Sydney:20260508T173000
DTEND;TZID=Australia/Sydney:20260508T203000
DTSTAMP:20260421T235103
CREATED:20260104T235802Z
LAST-MODIFIED:20260414T003654Z
UID:10010376-1778261400-1778272200@www.theshellharbourclub.com.au
SUMMARY:40% OFF CLUB CLASSICS
DESCRIPTION:40% CLUB CLASSICS\n\n\n\n\nMON – FRI LUNCH & DINNER\nFIFTYSIX DINING\n\n\n\n\n\n350g Pasture Fed Rump Steak (gf)\nBurrito Bowl (v) (gf)\nBeer-Battered Fish\nSalt & Pepper Squid\nCrumbed Chicken Schnitzel\nChicken Parmigiana\nClassic Chicken Schnitzel Burger\nWagyu Beef Burger\n\n*T&C’s apply. Available Monday – Friday\, for lunch & dinner. Not available on public holidays. Members only.
URL:https://www.theshellharbourclub.com.au/event/40-off-club-classics-2/2026-05-08/
ATTACH;FMTTYPE=image/png:https://www.theshellharbourclub.com.au/wp-content/uploads/2026/01/Untitled-design-22-1.png
END:VEVENT
BEGIN:VEVENT
DTSTART;TZID=Australia/Sydney:20260511T113000
DTEND;TZID=Australia/Sydney:20260511T143000
DTSTAMP:20260421T235103
CREATED:20260104T235519Z
LAST-MODIFIED:20260414T003722Z
UID:10007767-1778499000-1778509800@www.theshellharbourclub.com.au
SUMMARY:40% OFF CLUB CLASSICS
DESCRIPTION:40% CLUB CLASSICS\n\n\n\n\nMON – FRI LUNCH & DINNER\nFIFTYSIX DINING\n\n\n\n\n\n350g Pasture Fed Rump Steak (gf)\nBurrito Bowl (v) (gf)\nBeer-Battered Fish\nSalt & Pepper Squid\nCrumbed Chicken Schnitzel\nChicken Parmigiana\nClassic Chicken Schnitzel Burger\nWagyu Beef Burger\n\n*T&C’s apply. Available Monday – Friday\, for lunch & dinner. Not available on public holidays. Members only.
URL:https://www.theshellharbourclub.com.au/event/40-off-club-classics/2026-05-11/
ATTACH;FMTTYPE=image/png:https://www.theshellharbourclub.com.au/wp-content/uploads/2026/01/Untitled-design-22.png
END:VEVENT
BEGIN:VEVENT
DTSTART;TZID=Australia/Sydney:20260511T173000
DTEND;TZID=Australia/Sydney:20260511T203000
DTSTAMP:20260421T235103
CREATED:20260104T235802Z
LAST-MODIFIED:20260414T003654Z
UID:10010377-1778520600-1778531400@www.theshellharbourclub.com.au
SUMMARY:40% OFF CLUB CLASSICS
DESCRIPTION:40% CLUB CLASSICS\n\n\n\n\nMON – FRI LUNCH & DINNER\nFIFTYSIX DINING\n\n\n\n\n\n350g Pasture Fed Rump Steak (gf)\nBurrito Bowl (v) (gf)\nBeer-Battered Fish\nSalt & Pepper Squid\nCrumbed Chicken Schnitzel\nChicken Parmigiana\nClassic Chicken Schnitzel Burger\nWagyu Beef Burger\n\n*T&C’s apply. Available Monday – Friday\, for lunch & dinner. Not available on public holidays. Members only.
URL:https://www.theshellharbourclub.com.au/event/40-off-club-classics-2/2026-05-11/
ATTACH;FMTTYPE=image/png:https://www.theshellharbourclub.com.au/wp-content/uploads/2026/01/Untitled-design-22-1.png
END:VEVENT
BEGIN:VEVENT
DTSTART;TZID=Australia/Sydney:20260512T113000
DTEND;TZID=Australia/Sydney:20260512T143000
DTSTAMP:20260421T235103
CREATED:20260104T235519Z
LAST-MODIFIED:20260414T003722Z
UID:10007768-1778585400-1778596200@www.theshellharbourclub.com.au
SUMMARY:40% OFF CLUB CLASSICS
DESCRIPTION:40% CLUB CLASSICS\n\n\n\n\nMON – FRI LUNCH & DINNER\nFIFTYSIX DINING\n\n\n\n\n\n350g Pasture Fed Rump Steak (gf)\nBurrito Bowl (v) (gf)\nBeer-Battered Fish\nSalt & Pepper Squid\nCrumbed Chicken Schnitzel\nChicken Parmigiana\nClassic Chicken Schnitzel Burger\nWagyu Beef Burger\n\n*T&C’s apply. Available Monday – Friday\, for lunch & dinner. Not available on public holidays. Members only.
URL:https://www.theshellharbourclub.com.au/event/40-off-club-classics/2026-05-12/
ATTACH;FMTTYPE=image/png:https://www.theshellharbourclub.com.au/wp-content/uploads/2026/01/Untitled-design-22.png
END:VEVENT
BEGIN:VEVENT
DTSTART;TZID=Australia/Sydney:20260512T173000
DTEND;TZID=Australia/Sydney:20260512T203000
DTSTAMP:20260421T235103
CREATED:20260104T235802Z
LAST-MODIFIED:20260414T003654Z
UID:10010378-1778607000-1778617800@www.theshellharbourclub.com.au
SUMMARY:40% OFF CLUB CLASSICS
DESCRIPTION:40% CLUB CLASSICS\n\n\n\n\nMON – FRI LUNCH & DINNER\nFIFTYSIX DINING\n\n\n\n\n\n350g Pasture Fed Rump Steak (gf)\nBurrito Bowl (v) (gf)\nBeer-Battered Fish\nSalt & Pepper Squid\nCrumbed Chicken Schnitzel\nChicken Parmigiana\nClassic Chicken Schnitzel Burger\nWagyu Beef Burger\n\n*T&C’s apply. Available Monday – Friday\, for lunch & dinner. Not available on public holidays. Members only.
URL:https://www.theshellharbourclub.com.au/event/40-off-club-classics-2/2026-05-12/
ATTACH;FMTTYPE=image/png:https://www.theshellharbourclub.com.au/wp-content/uploads/2026/01/Untitled-design-22-1.png
END:VEVENT
BEGIN:VEVENT
DTSTART;TZID=Australia/Sydney:20260513T113000
DTEND;TZID=Australia/Sydney:20260513T143000
DTSTAMP:20260421T235103
CREATED:20260104T235519Z
LAST-MODIFIED:20260414T003722Z
UID:10007769-1778671800-1778682600@www.theshellharbourclub.com.au
SUMMARY:40% OFF CLUB CLASSICS
DESCRIPTION:40% CLUB CLASSICS\n\n\n\n\nMON – FRI LUNCH & DINNER\nFIFTYSIX DINING\n\n\n\n\n\n350g Pasture Fed Rump Steak (gf)\nBurrito Bowl (v) (gf)\nBeer-Battered Fish\nSalt & Pepper Squid\nCrumbed Chicken Schnitzel\nChicken Parmigiana\nClassic Chicken Schnitzel Burger\nWagyu Beef Burger\n\n*T&C’s apply. Available Monday – Friday\, for lunch & dinner. Not available on public holidays. Members only.
URL:https://www.theshellharbourclub.com.au/event/40-off-club-classics/2026-05-13/
ATTACH;FMTTYPE=image/png:https://www.theshellharbourclub.com.au/wp-content/uploads/2026/01/Untitled-design-22.png
END:VEVENT
BEGIN:VEVENT
DTSTART;TZID=Australia/Sydney:20260513T173000
DTEND;TZID=Australia/Sydney:20260513T203000
DTSTAMP:20260421T235103
CREATED:20260104T235802Z
LAST-MODIFIED:20260414T003654Z
UID:10010379-1778693400-1778704200@www.theshellharbourclub.com.au
SUMMARY:40% OFF CLUB CLASSICS
DESCRIPTION:40% CLUB CLASSICS\n\n\n\n\nMON – FRI LUNCH & DINNER\nFIFTYSIX DINING\n\n\n\n\n\n350g Pasture Fed Rump Steak (gf)\nBurrito Bowl (v) (gf)\nBeer-Battered Fish\nSalt & Pepper Squid\nCrumbed Chicken Schnitzel\nChicken Parmigiana\nClassic Chicken Schnitzel Burger\nWagyu Beef Burger\n\n*T&C’s apply. Available Monday – Friday\, for lunch & dinner. Not available on public holidays. Members only.
URL:https://www.theshellharbourclub.com.au/event/40-off-club-classics-2/2026-05-13/
ATTACH;FMTTYPE=image/png:https://www.theshellharbourclub.com.au/wp-content/uploads/2026/01/Untitled-design-22-1.png
END:VEVENT
END:VCALENDAR